BEGIN:VCALENDAR
VERSION:2.0
PRODID:-//AdventHealth Sports Park at Bluhawk - ECPv6.15.20//NONSGML v1.0//EN
CALSCALE:GREGORIAN
METHOD:PUBLISH
X-WR-CALNAME:AdventHealth Sports Park at Bluhawk
X-ORIGINAL-URL:https://bluhawksports.com
X-WR-CALDESC:Events for AdventHealth Sports Park at Bluhawk
REFRESH-INTERVAL;VALUE=DURATION:PT1H
X-Robots-Tag:noindex
X-PUBLISHED-TTL:PT1H
BEGIN:VTIMEZONE
TZID:America/Chicago
BEGIN:DAYLIGHT
TZOFFSETFROM:-0600
TZOFFSETTO:-0500
TZNAME:CDT
DTSTART:20250309T080000
END:DAYLIGHT
BEGIN:STANDARD
TZOFFSETFROM:-0500
TZOFFSETTO:-0600
TZNAME:CST
DTSTART:20251102T070000
END:STANDARD
BEGIN:DAYLIGHT
TZOFFSETFROM:-0600
TZOFFSETTO:-0500
TZNAME:CDT
DTSTART:20260308T080000
END:DAYLIGHT
BEGIN:STANDARD
TZOFFSETFROM:-0500
TZOFFSETTO:-0600
TZNAME:CST
DTSTART:20261101T070000
END:STANDARD
BEGIN:DAYLIGHT
TZOFFSETFROM:-0600
TZOFFSETTO:-0500
TZNAME:CDT
DTSTART:20270314T080000
END:DAYLIGHT
BEGIN:STANDARD
TZOFFSETFROM:-0500
TZOFFSETTO:-0600
TZNAME:CST
DTSTART:20271107T070000
END:STANDARD
END:VTIMEZONE
BEGIN:VEVENT
DTSTART;TZID=America/Chicago:20260427T123000
DTEND;TZID=America/Chicago:20260427T140000
DTSTAMP:20260424T152010
CREATED:20260424T155506Z
LAST-MODIFIED:20260424T155542Z
UID:10000977-1777293000-1777298400@bluhawksports.com
SUMMARY:Public Skate
DESCRIPTION:
URL:https://bluhawksports.com/event/public-skate-4/2026-04-27/
LOCATION:Bluhawk Ice Rink
CATEGORIES:Events
END:VEVENT
BEGIN:VEVENT
DTSTART;TZID=America/Chicago:20260428T123000
DTEND;TZID=America/Chicago:20260428T140000
DTSTAMP:20260424T152010
CREATED:20260424T155506Z
LAST-MODIFIED:20260424T155542Z
UID:10000978-1777379400-1777384800@bluhawksports.com
SUMMARY:Public Skate
DESCRIPTION:
URL:https://bluhawksports.com/event/public-skate-4/2026-04-28/
LOCATION:Bluhawk Ice Rink
CATEGORIES:Events
END:VEVENT
BEGIN:VEVENT
DTSTART;TZID=America/Chicago:20260429T123000
DTEND;TZID=America/Chicago:20260429T140000
DTSTAMP:20260424T152010
CREATED:20260424T155506Z
LAST-MODIFIED:20260424T155542Z
UID:10000979-1777465800-1777471200@bluhawksports.com
SUMMARY:Public Skate
DESCRIPTION:
URL:https://bluhawksports.com/event/public-skate-4/2026-04-29/
LOCATION:Bluhawk Ice Rink
CATEGORIES:Events
END:VEVENT
BEGIN:VEVENT
DTSTART;TZID=America/Chicago:20260430T123000
DTEND;TZID=America/Chicago:20260430T140000
DTSTAMP:20260424T152010
CREATED:20260424T155506Z
LAST-MODIFIED:20260424T155542Z
UID:10000980-1777552200-1777557600@bluhawksports.com
SUMMARY:Public Skate
DESCRIPTION:
URL:https://bluhawksports.com/event/public-skate-4/2026-04-30/
LOCATION:Bluhawk Ice Rink
CATEGORIES:Events
END:VEVENT
BEGIN:VEVENT
DTSTART;TZID=America/Chicago:20260504T123000
DTEND;TZID=America/Chicago:20260504T140000
DTSTAMP:20260424T152010
CREATED:20260424T155506Z
LAST-MODIFIED:20260424T155542Z
UID:10000981-1777897800-1777903200@bluhawksports.com
SUMMARY:Public Skate
DESCRIPTION:
URL:https://bluhawksports.com/event/public-skate-4/2026-05-04/
LOCATION:Bluhawk Ice Rink
CATEGORIES:Events
END:VEVENT
BEGIN:VEVENT
DTSTART;TZID=America/Chicago:20260505T123000
DTEND;TZID=America/Chicago:20260505T140000
DTSTAMP:20260424T152010
CREATED:20260424T155506Z
LAST-MODIFIED:20260424T155542Z
UID:10000982-1777984200-1777989600@bluhawksports.com
SUMMARY:Public Skate
DESCRIPTION:
URL:https://bluhawksports.com/event/public-skate-4/2026-05-05/
LOCATION:Bluhawk Ice Rink
CATEGORIES:Events
END:VEVENT
BEGIN:VEVENT
DTSTART;TZID=America/Chicago:20260506T123000
DTEND;TZID=America/Chicago:20260506T140000
DTSTAMP:20260424T152010
CREATED:20260424T155506Z
LAST-MODIFIED:20260424T155542Z
UID:10000983-1778070600-1778076000@bluhawksports.com
SUMMARY:Public Skate
DESCRIPTION:
URL:https://bluhawksports.com/event/public-skate-4/2026-05-06/
LOCATION:Bluhawk Ice Rink
CATEGORIES:Events
END:VEVENT
BEGIN:VEVENT
DTSTART;TZID=America/Chicago:20260507T123000
DTEND;TZID=America/Chicago:20260507T140000
DTSTAMP:20260424T152010
CREATED:20260424T155506Z
LAST-MODIFIED:20260424T155542Z
UID:10000984-1778157000-1778162400@bluhawksports.com
SUMMARY:Public Skate
DESCRIPTION:
URL:https://bluhawksports.com/event/public-skate-4/2026-05-07/
LOCATION:Bluhawk Ice Rink
CATEGORIES:Events
END:VEVENT
BEGIN:VEVENT
DTSTART;TZID=America/Chicago:20260511T123000
DTEND;TZID=America/Chicago:20260511T140000
DTSTAMP:20260424T152010
CREATED:20260424T155506Z
LAST-MODIFIED:20260424T155542Z
UID:10000985-1778502600-1778508000@bluhawksports.com
SUMMARY:Public Skate
DESCRIPTION:
URL:https://bluhawksports.com/event/public-skate-4/2026-05-11/
LOCATION:Bluhawk Ice Rink
CATEGORIES:Events
END:VEVENT
BEGIN:VEVENT
DTSTART;TZID=America/Chicago:20260512T123000
DTEND;TZID=America/Chicago:20260512T140000
DTSTAMP:20260424T152010
CREATED:20260424T155506Z
LAST-MODIFIED:20260424T155542Z
UID:10000986-1778589000-1778594400@bluhawksports.com
SUMMARY:Public Skate
DESCRIPTION:
URL:https://bluhawksports.com/event/public-skate-4/2026-05-12/
LOCATION:Bluhawk Ice Rink
CATEGORIES:Events
END:VEVENT
BEGIN:VEVENT
DTSTART;TZID=America/Chicago:20260513T123000
DTEND;TZID=America/Chicago:20260513T140000
DTSTAMP:20260424T152010
CREATED:20260424T155506Z
LAST-MODIFIED:20260424T155542Z
UID:10000987-1778675400-1778680800@bluhawksports.com
SUMMARY:Public Skate
DESCRIPTION:
URL:https://bluhawksports.com/event/public-skate-4/2026-05-13/
LOCATION:Bluhawk Ice Rink
CATEGORIES:Events
END:VEVENT
BEGIN:VEVENT
DTSTART;TZID=America/Chicago:20260514T123000
DTEND;TZID=America/Chicago:20260514T140000
DTSTAMP:20260424T152010
CREATED:20260424T155506Z
LAST-MODIFIED:20260424T155542Z
UID:10000988-1778761800-1778767200@bluhawksports.com
SUMMARY:Public Skate
DESCRIPTION:
URL:https://bluhawksports.com/event/public-skate-4/2026-05-14/
LOCATION:Bluhawk Ice Rink
CATEGORIES:Events
END:VEVENT
BEGIN:VEVENT
DTSTART;TZID=America/Chicago:20260518T123000
DTEND;TZID=America/Chicago:20260518T140000
DTSTAMP:20260424T152010
CREATED:20260424T155506Z
LAST-MODIFIED:20260424T155542Z
UID:10000989-1779107400-1779112800@bluhawksports.com
SUMMARY:Public Skate
DESCRIPTION:
URL:https://bluhawksports.com/event/public-skate-4/2026-05-18/
LOCATION:Bluhawk Ice Rink
CATEGORIES:Events
END:VEVENT
BEGIN:VEVENT
DTSTART;TZID=America/Chicago:20260519T123000
DTEND;TZID=America/Chicago:20260519T140000
DTSTAMP:20260424T152010
CREATED:20260424T155506Z
LAST-MODIFIED:20260424T155542Z
UID:10000990-1779193800-1779199200@bluhawksports.com
SUMMARY:Public Skate
DESCRIPTION:
URL:https://bluhawksports.com/event/public-skate-4/2026-05-19/
LOCATION:Bluhawk Ice Rink
CATEGORIES:Events
END:VEVENT
BEGIN:VEVENT
DTSTART;TZID=America/Chicago:20260520T123000
DTEND;TZID=America/Chicago:20260520T140000
DTSTAMP:20260424T152010
CREATED:20260424T155506Z
LAST-MODIFIED:20260424T155542Z
UID:10000991-1779280200-1779285600@bluhawksports.com
SUMMARY:Public Skate
DESCRIPTION:
URL:https://bluhawksports.com/event/public-skate-4/2026-05-20/
LOCATION:Bluhawk Ice Rink
CATEGORIES:Events
END:VEVENT
BEGIN:VEVENT
DTSTART;TZID=America/Chicago:20260521T123000
DTEND;TZID=America/Chicago:20260521T140000
DTSTAMP:20260424T152010
CREATED:20260424T155506Z
LAST-MODIFIED:20260424T155542Z
UID:10000992-1779366600-1779372000@bluhawksports.com
SUMMARY:Public Skate
DESCRIPTION:
URL:https://bluhawksports.com/event/public-skate-4/2026-05-21/
LOCATION:Bluhawk Ice Rink
CATEGORIES:Events
END:VEVENT
BEGIN:VEVENT
DTSTART;TZID=America/Chicago:20260525T123000
DTEND;TZID=America/Chicago:20260525T140000
DTSTAMP:20260424T152010
CREATED:20260424T155506Z
LAST-MODIFIED:20260424T155542Z
UID:10000993-1779712200-1779717600@bluhawksports.com
SUMMARY:Public Skate
DESCRIPTION:
URL:https://bluhawksports.com/event/public-skate-4/2026-05-25/
LOCATION:Bluhawk Ice Rink
CATEGORIES:Events
END:VEVENT
BEGIN:VEVENT
DTSTART;TZID=America/Chicago:20260526T123000
DTEND;TZID=America/Chicago:20260526T140000
DTSTAMP:20260424T152010
CREATED:20260424T155506Z
LAST-MODIFIED:20260424T155542Z
UID:10000994-1779798600-1779804000@bluhawksports.com
SUMMARY:Public Skate
DESCRIPTION:
URL:https://bluhawksports.com/event/public-skate-4/2026-05-26/
LOCATION:Bluhawk Ice Rink
CATEGORIES:Events
END:VEVENT
BEGIN:VEVENT
DTSTART;TZID=America/Chicago:20260527T123000
DTEND;TZID=America/Chicago:20260527T140000
DTSTAMP:20260424T152010
CREATED:20260424T155506Z
LAST-MODIFIED:20260424T155542Z
UID:10000995-1779885000-1779890400@bluhawksports.com
SUMMARY:Public Skate
DESCRIPTION:
URL:https://bluhawksports.com/event/public-skate-4/2026-05-27/
LOCATION:Bluhawk Ice Rink
CATEGORIES:Events
END:VEVENT
BEGIN:VEVENT
DTSTART;TZID=America/Chicago:20260528T123000
DTEND;TZID=America/Chicago:20260528T140000
DTSTAMP:20260424T152010
CREATED:20260424T155506Z
LAST-MODIFIED:20260424T155542Z
UID:10000996-1779971400-1779976800@bluhawksports.com
SUMMARY:Public Skate
DESCRIPTION:
URL:https://bluhawksports.com/event/public-skate-4/2026-05-28/
LOCATION:Bluhawk Ice Rink
CATEGORIES:Events
END:VEVENT
BEGIN:VEVENT
DTSTART;TZID=America/Chicago:20260601T123000
DTEND;TZID=America/Chicago:20260601T140000
DTSTAMP:20260424T152010
CREATED:20260424T155506Z
LAST-MODIFIED:20260424T155542Z
UID:10000997-1780317000-1780322400@bluhawksports.com
SUMMARY:Public Skate
DESCRIPTION:
URL:https://bluhawksports.com/event/public-skate-4/2026-06-01/
LOCATION:Bluhawk Ice Rink
CATEGORIES:Events
END:VEVENT
BEGIN:VEVENT
DTSTART;TZID=America/Chicago:20260602T123000
DTEND;TZID=America/Chicago:20260602T140000
DTSTAMP:20260424T152010
CREATED:20260424T155506Z
LAST-MODIFIED:20260424T155542Z
UID:10000998-1780403400-1780408800@bluhawksports.com
SUMMARY:Public Skate
DESCRIPTION:
URL:https://bluhawksports.com/event/public-skate-4/2026-06-02/
LOCATION:Bluhawk Ice Rink
CATEGORIES:Events
END:VEVENT
BEGIN:VEVENT
DTSTART;TZID=America/Chicago:20260603T123000
DTEND;TZID=America/Chicago:20260603T140000
DTSTAMP:20260424T152010
CREATED:20260424T155506Z
LAST-MODIFIED:20260424T155542Z
UID:10000999-1780489800-1780495200@bluhawksports.com
SUMMARY:Public Skate
DESCRIPTION:
URL:https://bluhawksports.com/event/public-skate-4/2026-06-03/
LOCATION:Bluhawk Ice Rink
CATEGORIES:Events
END:VEVENT
BEGIN:VEVENT
DTSTART;TZID=America/Chicago:20260604T123000
DTEND;TZID=America/Chicago:20260604T140000
DTSTAMP:20260424T152010
CREATED:20260424T155506Z
LAST-MODIFIED:20260424T155542Z
UID:10001000-1780576200-1780581600@bluhawksports.com
SUMMARY:Public Skate
DESCRIPTION:
URL:https://bluhawksports.com/event/public-skate-4/2026-06-04/
LOCATION:Bluhawk Ice Rink
CATEGORIES:Events
END:VEVENT
BEGIN:VEVENT
DTSTART;TZID=America/Chicago:20260608T123000
DTEND;TZID=America/Chicago:20260608T140000
DTSTAMP:20260424T152010
CREATED:20260424T155506Z
LAST-MODIFIED:20260424T155542Z
UID:10001001-1780921800-1780927200@bluhawksports.com
SUMMARY:Public Skate
DESCRIPTION:
URL:https://bluhawksports.com/event/public-skate-4/2026-06-08/
LOCATION:Bluhawk Ice Rink
CATEGORIES:Events
END:VEVENT
BEGIN:VEVENT
DTSTART;TZID=America/Chicago:20260609T123000
DTEND;TZID=America/Chicago:20260609T140000
DTSTAMP:20260424T152010
CREATED:20260424T155506Z
LAST-MODIFIED:20260424T155542Z
UID:10001002-1781008200-1781013600@bluhawksports.com
SUMMARY:Public Skate
DESCRIPTION:
URL:https://bluhawksports.com/event/public-skate-4/2026-06-09/
LOCATION:Bluhawk Ice Rink
CATEGORIES:Events
END:VEVENT
BEGIN:VEVENT
DTSTART;TZID=America/Chicago:20260610T123000
DTEND;TZID=America/Chicago:20260610T140000
DTSTAMP:20260424T152010
CREATED:20260424T155506Z
LAST-MODIFIED:20260424T155542Z
UID:10001003-1781094600-1781100000@bluhawksports.com
SUMMARY:Public Skate
DESCRIPTION:
URL:https://bluhawksports.com/event/public-skate-4/2026-06-10/
LOCATION:Bluhawk Ice Rink
CATEGORIES:Events
END:VEVENT
BEGIN:VEVENT
DTSTART;TZID=America/Chicago:20260611T123000
DTEND;TZID=America/Chicago:20260611T140000
DTSTAMP:20260424T152010
CREATED:20260424T155506Z
LAST-MODIFIED:20260424T155542Z
UID:10001004-1781181000-1781186400@bluhawksports.com
SUMMARY:Public Skate
DESCRIPTION:
URL:https://bluhawksports.com/event/public-skate-4/2026-06-11/
LOCATION:Bluhawk Ice Rink
CATEGORIES:Events
END:VEVENT
BEGIN:VEVENT
DTSTART;TZID=America/Chicago:20260615T123000
DTEND;TZID=America/Chicago:20260615T140000
DTSTAMP:20260424T152010
CREATED:20260424T155506Z
LAST-MODIFIED:20260424T155542Z
UID:10001005-1781526600-1781532000@bluhawksports.com
SUMMARY:Public Skate
DESCRIPTION:
URL:https://bluhawksports.com/event/public-skate-4/2026-06-15/
LOCATION:Bluhawk Ice Rink
CATEGORIES:Events
END:VEVENT
BEGIN:VEVENT
DTSTART;TZID=America/Chicago:20260616T123000
DTEND;TZID=America/Chicago:20260616T140000
DTSTAMP:20260424T152010
CREATED:20260424T155506Z
LAST-MODIFIED:20260424T155542Z
UID:10001006-1781613000-1781618400@bluhawksports.com
SUMMARY:Public Skate
DESCRIPTION:
URL:https://bluhawksports.com/event/public-skate-4/2026-06-16/
LOCATION:Bluhawk Ice Rink
CATEGORIES:Events
END:VEVENT
END:VCALENDAR