BEGIN:VCALENDAR
VERSION:2.0
PRODID:-//AdventHealth Sports Park at Bluhawk - ECPv6.15.20//NONSGML v1.0//EN
CALSCALE:GREGORIAN
METHOD:PUBLISH
X-ORIGINAL-URL:https://bluhawksports.com
X-WR-CALDESC:Events for AdventHealth Sports Park at Bluhawk
REFRESH-INTERVAL;VALUE=DURATION:PT1H
X-Robots-Tag:noindex
X-PUBLISHED-TTL:PT1H
BEGIN:VTIMEZONE
TZID:America/Chicago
BEGIN:DAYLIGHT
TZOFFSETFROM:-0600
TZOFFSETTO:-0500
TZNAME:CDT
DTSTART:20250309T080000
END:DAYLIGHT
BEGIN:STANDARD
TZOFFSETFROM:-0500
TZOFFSETTO:-0600
TZNAME:CST
DTSTART:20251102T070000
END:STANDARD
BEGIN:DAYLIGHT
TZOFFSETFROM:-0600
TZOFFSETTO:-0500
TZNAME:CDT
DTSTART:20260308T080000
END:DAYLIGHT
BEGIN:STANDARD
TZOFFSETFROM:-0500
TZOFFSETTO:-0600
TZNAME:CST
DTSTART:20261101T070000
END:STANDARD
BEGIN:DAYLIGHT
TZOFFSETFROM:-0600
TZOFFSETTO:-0500
TZNAME:CDT
DTSTART:20270314T080000
END:DAYLIGHT
BEGIN:STANDARD
TZOFFSETFROM:-0500
TZOFFSETTO:-0600
TZNAME:CST
DTSTART:20271107T070000
END:STANDARD
END:VTIMEZONE
BEGIN:VEVENT
DTSTART;TZID=America/Chicago:20260718T140000
DTEND;TZID=America/Chicago:20260718T160000
DTSTAMP:20260425T082943
CREATED:20260424T153637Z
LAST-MODIFIED:20260424T153730Z
UID:10000231-1784383200-1784390400@bluhawksports.com
SUMMARY:Public Skate
DESCRIPTION:
URL:https://bluhawksports.com/event/public-skate-3/2026-07-18/
LOCATION:Bluhawk Ice Rink
CATEGORIES:Events
END:VEVENT
BEGIN:VEVENT
DTSTART;TZID=America/Chicago:20260719T140000
DTEND;TZID=America/Chicago:20260719T160000
DTSTAMP:20260425T082943
CREATED:20260424T153637Z
LAST-MODIFIED:20260424T153730Z
UID:10000232-1784469600-1784476800@bluhawksports.com
SUMMARY:Public Skate
DESCRIPTION:
URL:https://bluhawksports.com/event/public-skate-3/2026-07-19/
LOCATION:Bluhawk Ice Rink
CATEGORIES:Events
END:VEVENT
BEGIN:VEVENT
DTSTART;TZID=America/Chicago:20260720T123000
DTEND;TZID=America/Chicago:20260720T140000
DTSTAMP:20260425T082943
CREATED:20260424T155506Z
LAST-MODIFIED:20260424T155542Z
UID:10001025-1784550600-1784556000@bluhawksports.com
SUMMARY:Public Skate
DESCRIPTION:
URL:https://bluhawksports.com/event/public-skate-4/2026-07-20/
LOCATION:Bluhawk Ice Rink
CATEGORIES:Events
END:VEVENT
BEGIN:VEVENT
DTSTART;TZID=America/Chicago:20260721T123000
DTEND;TZID=America/Chicago:20260721T140000
DTSTAMP:20260425T082943
CREATED:20260424T155506Z
LAST-MODIFIED:20260424T155542Z
UID:10001026-1784637000-1784642400@bluhawksports.com
SUMMARY:Public Skate
DESCRIPTION:
URL:https://bluhawksports.com/event/public-skate-4/2026-07-21/
LOCATION:Bluhawk Ice Rink
CATEGORIES:Events
END:VEVENT
BEGIN:VEVENT
DTSTART;TZID=America/Chicago:20260722T123000
DTEND;TZID=America/Chicago:20260722T140000
DTSTAMP:20260425T082943
CREATED:20260424T155506Z
LAST-MODIFIED:20260424T155542Z
UID:10001027-1784723400-1784728800@bluhawksports.com
SUMMARY:Public Skate
DESCRIPTION:
URL:https://bluhawksports.com/event/public-skate-4/2026-07-22/
LOCATION:Bluhawk Ice Rink
CATEGORIES:Events
END:VEVENT
BEGIN:VEVENT
DTSTART;TZID=America/Chicago:20260723T123000
DTEND;TZID=America/Chicago:20260723T140000
DTSTAMP:20260425T082943
CREATED:20260424T155506Z
LAST-MODIFIED:20260424T155542Z
UID:10001028-1784809800-1784815200@bluhawksports.com
SUMMARY:Public Skate
DESCRIPTION:
URL:https://bluhawksports.com/event/public-skate-4/2026-07-23/
LOCATION:Bluhawk Ice Rink
CATEGORIES:Events
END:VEVENT
BEGIN:VEVENT
DTSTART;TZID=America/Chicago:20260724T000000
DTEND;TZID=America/Chicago:20260726T235959
DTSTAMP:20260425T082943
CREATED:20251014T150700Z
LAST-MODIFIED:20251014T151022Z
UID:10000154-1784851200-1785110399@bluhawksports.com
SUMMARY:MAYB Girls North National Championships
DESCRIPTION:
URL:https://bluhawksports.com/event/mayb-girls-north-national-championships/
CATEGORIES:Events
ATTACH;FMTTYPE=image/jpeg:https://bluhawksports.com/wp-content/uploads/2025/10/download.jpg
END:VEVENT
BEGIN:VEVENT
DTSTART;TZID=America/Chicago:20260724T140000
DTEND;TZID=America/Chicago:20260724T160000
DTSTAMP:20260425T082943
CREATED:20260424T153637Z
LAST-MODIFIED:20260424T153730Z
UID:10000233-1784901600-1784908800@bluhawksports.com
SUMMARY:Public Skate
DESCRIPTION:
URL:https://bluhawksports.com/event/public-skate-3/2026-07-24/
LOCATION:Bluhawk Ice Rink
CATEGORIES:Events
END:VEVENT
BEGIN:VEVENT
DTSTART;TZID=America/Chicago:20260725T140000
DTEND;TZID=America/Chicago:20260725T160000
DTSTAMP:20260425T082943
CREATED:20260424T153637Z
LAST-MODIFIED:20260424T153730Z
UID:10000234-1784988000-1784995200@bluhawksports.com
SUMMARY:Public Skate
DESCRIPTION:
URL:https://bluhawksports.com/event/public-skate-3/2026-07-25/
LOCATION:Bluhawk Ice Rink
CATEGORIES:Events
END:VEVENT
BEGIN:VEVENT
DTSTART;TZID=America/Chicago:20260726T140000
DTEND;TZID=America/Chicago:20260726T160000
DTSTAMP:20260425T082943
CREATED:20260424T153637Z
LAST-MODIFIED:20260424T153730Z
UID:10000235-1785074400-1785081600@bluhawksports.com
SUMMARY:Public Skate
DESCRIPTION:
URL:https://bluhawksports.com/event/public-skate-3/2026-07-26/
LOCATION:Bluhawk Ice Rink
CATEGORIES:Events
END:VEVENT
BEGIN:VEVENT
DTSTART;TZID=America/Chicago:20260727T123000
DTEND;TZID=America/Chicago:20260727T140000
DTSTAMP:20260425T082943
CREATED:20260424T155506Z
LAST-MODIFIED:20260424T155542Z
UID:10001029-1785155400-1785160800@bluhawksports.com
SUMMARY:Public Skate
DESCRIPTION:
URL:https://bluhawksports.com/event/public-skate-4/2026-07-27/
LOCATION:Bluhawk Ice Rink
CATEGORIES:Events
END:VEVENT
BEGIN:VEVENT
DTSTART;TZID=America/Chicago:20260728T123000
DTEND;TZID=America/Chicago:20260728T140000
DTSTAMP:20260425T082943
CREATED:20260424T155506Z
LAST-MODIFIED:20260424T155542Z
UID:10001030-1785241800-1785247200@bluhawksports.com
SUMMARY:Public Skate
DESCRIPTION:
URL:https://bluhawksports.com/event/public-skate-4/2026-07-28/
LOCATION:Bluhawk Ice Rink
CATEGORIES:Events
END:VEVENT
BEGIN:VEVENT
DTSTART;TZID=America/Chicago:20260729T123000
DTEND;TZID=America/Chicago:20260729T140000
DTSTAMP:20260425T082943
CREATED:20260424T155506Z
LAST-MODIFIED:20260424T155542Z
UID:10001031-1785328200-1785333600@bluhawksports.com
SUMMARY:Public Skate
DESCRIPTION:
URL:https://bluhawksports.com/event/public-skate-4/2026-07-29/
LOCATION:Bluhawk Ice Rink
CATEGORIES:Events
END:VEVENT
BEGIN:VEVENT
DTSTART;TZID=America/Chicago:20260730T123000
DTEND;TZID=America/Chicago:20260730T140000
DTSTAMP:20260425T082943
CREATED:20260424T155506Z
LAST-MODIFIED:20260424T155542Z
UID:10001032-1785414600-1785420000@bluhawksports.com
SUMMARY:Public Skate
DESCRIPTION:
URL:https://bluhawksports.com/event/public-skate-4/2026-07-30/
LOCATION:Bluhawk Ice Rink
CATEGORIES:Events
END:VEVENT
BEGIN:VEVENT
DTSTART;TZID=America/Chicago:20260731T140000
DTEND;TZID=America/Chicago:20260731T160000
DTSTAMP:20260425T082943
CREATED:20260424T153637Z
LAST-MODIFIED:20260424T153730Z
UID:10000236-1785506400-1785513600@bluhawksports.com
SUMMARY:Public Skate
DESCRIPTION:
URL:https://bluhawksports.com/event/public-skate-3/2026-07-31/
LOCATION:Bluhawk Ice Rink
CATEGORIES:Events
END:VEVENT
BEGIN:VEVENT
DTSTART;TZID=America/Chicago:20260801T090000
DTEND;TZID=America/Chicago:20260801T130000
DTSTAMP:20260425T082943
CREATED:20251124T151912Z
LAST-MODIFIED:20251124T152402Z
UID:10000176-1785574800-1785589200@bluhawksports.com
SUMMARY:Christian Braun Basketball Clinic
DESCRIPTION:Ages: 6-16 \n\n\n\nJoin NBA star Christian Braun for a day of basketball fun and learning! \n\n\n\nThis fast-paced clinic helps young athletes improve their skills. With hands-on coaching\, exciting drills\, and fun games\, every player gets a chance to grow. Christian Braun and our top coaches will guide the group through stations focused on shooting\, dribbling\, defense\, and teamwork. \n\n\n\nAll skill levels are welcome. Whether your child is new to basketball or already plays on a team\, they’ll gain confidence\, improve their game\, and have a blast. \n\n\n\nWhat’s Included:Coaching from Christian Braun and expert trainersDrills to build core basketball skillsTeam games and fun competitionsPhoto and autograph time with ChristianA positive\, high-energy atmosphere \n\n\n\nMore information to come!
URL:https://bluhawksports.com/event/christian-braun-basketball-clinic/
CATEGORIES:Events
ATTACH;FMTTYPE=image/png:https://bluhawksports.com/wp-content/uploads/2025/07/ChristianBraunCamp-1-e1763997638697.png
END:VEVENT
BEGIN:VEVENT
DTSTART;TZID=America/Chicago:20260801T140000
DTEND;TZID=America/Chicago:20260801T160000
DTSTAMP:20260425T082943
CREATED:20260424T153637Z
LAST-MODIFIED:20260424T153730Z
UID:10000237-1785592800-1785600000@bluhawksports.com
SUMMARY:Public Skate
DESCRIPTION:
URL:https://bluhawksports.com/event/public-skate-3/2026-08-01/
LOCATION:Bluhawk Ice Rink
CATEGORIES:Events
END:VEVENT
BEGIN:VEVENT
DTSTART;TZID=America/Chicago:20260802T140000
DTEND;TZID=America/Chicago:20260802T160000
DTSTAMP:20260425T082943
CREATED:20260424T153637Z
LAST-MODIFIED:20260424T153730Z
UID:10000238-1785679200-1785686400@bluhawksports.com
SUMMARY:Public Skate
DESCRIPTION:
URL:https://bluhawksports.com/event/public-skate-3/2026-08-02/
LOCATION:Bluhawk Ice Rink
CATEGORIES:Events
END:VEVENT
BEGIN:VEVENT
DTSTART;TZID=America/Chicago:20260803T123000
DTEND;TZID=America/Chicago:20260803T140000
DTSTAMP:20260425T082943
CREATED:20260424T155506Z
LAST-MODIFIED:20260424T155542Z
UID:10001033-1785760200-1785765600@bluhawksports.com
SUMMARY:Public Skate
DESCRIPTION:
URL:https://bluhawksports.com/event/public-skate-4/2026-08-03/
LOCATION:Bluhawk Ice Rink
CATEGORIES:Events
END:VEVENT
BEGIN:VEVENT
DTSTART;TZID=America/Chicago:20260804T123000
DTEND;TZID=America/Chicago:20260804T140000
DTSTAMP:20260425T082943
CREATED:20260424T155506Z
LAST-MODIFIED:20260424T155542Z
UID:10001034-1785846600-1785852000@bluhawksports.com
SUMMARY:Public Skate
DESCRIPTION:
URL:https://bluhawksports.com/event/public-skate-4/2026-08-04/
LOCATION:Bluhawk Ice Rink
CATEGORIES:Events
END:VEVENT
BEGIN:VEVENT
DTSTART;TZID=America/Chicago:20260805T123000
DTEND;TZID=America/Chicago:20260805T140000
DTSTAMP:20260425T082943
CREATED:20260424T155506Z
LAST-MODIFIED:20260424T155542Z
UID:10001035-1785933000-1785938400@bluhawksports.com
SUMMARY:Public Skate
DESCRIPTION:
URL:https://bluhawksports.com/event/public-skate-4/2026-08-05/
LOCATION:Bluhawk Ice Rink
CATEGORIES:Events
END:VEVENT
BEGIN:VEVENT
DTSTART;TZID=America/Chicago:20260806T123000
DTEND;TZID=America/Chicago:20260806T140000
DTSTAMP:20260425T082943
CREATED:20260424T155506Z
LAST-MODIFIED:20260424T155542Z
UID:10001036-1786019400-1786024800@bluhawksports.com
SUMMARY:Public Skate
DESCRIPTION:
URL:https://bluhawksports.com/event/public-skate-4/2026-08-06/
LOCATION:Bluhawk Ice Rink
CATEGORIES:Events
END:VEVENT
BEGIN:VEVENT
DTSTART;TZID=America/Chicago:20260807T140000
DTEND;TZID=America/Chicago:20260807T160000
DTSTAMP:20260425T082943
CREATED:20260424T153637Z
LAST-MODIFIED:20260424T153730Z
UID:10000239-1786111200-1786118400@bluhawksports.com
SUMMARY:Public Skate
DESCRIPTION:
URL:https://bluhawksports.com/event/public-skate-3/2026-08-07/
LOCATION:Bluhawk Ice Rink
CATEGORIES:Events
END:VEVENT
BEGIN:VEVENT
DTSTART;TZID=America/Chicago:20260808T140000
DTEND;TZID=America/Chicago:20260808T160000
DTSTAMP:20260425T082943
CREATED:20260424T153637Z
LAST-MODIFIED:20260424T153730Z
UID:10000240-1786197600-1786204800@bluhawksports.com
SUMMARY:Public Skate
DESCRIPTION:
URL:https://bluhawksports.com/event/public-skate-3/2026-08-08/
LOCATION:Bluhawk Ice Rink
CATEGORIES:Events
END:VEVENT
BEGIN:VEVENT
DTSTART;TZID=America/Chicago:20260809T140000
DTEND;TZID=America/Chicago:20260809T160000
DTSTAMP:20260425T082943
CREATED:20260424T153637Z
LAST-MODIFIED:20260424T153730Z
UID:10000241-1786284000-1786291200@bluhawksports.com
SUMMARY:Public Skate
DESCRIPTION:
URL:https://bluhawksports.com/event/public-skate-3/2026-08-09/
LOCATION:Bluhawk Ice Rink
CATEGORIES:Events
END:VEVENT
BEGIN:VEVENT
DTSTART;TZID=America/Chicago:20260810T123000
DTEND;TZID=America/Chicago:20260810T140000
DTSTAMP:20260425T082943
CREATED:20260424T155506Z
LAST-MODIFIED:20260424T155542Z
UID:10001037-1786365000-1786370400@bluhawksports.com
SUMMARY:Public Skate
DESCRIPTION:
URL:https://bluhawksports.com/event/public-skate-4/2026-08-10/
LOCATION:Bluhawk Ice Rink
CATEGORIES:Events
END:VEVENT
BEGIN:VEVENT
DTSTART;TZID=America/Chicago:20260811T123000
DTEND;TZID=America/Chicago:20260811T140000
DTSTAMP:20260425T082943
CREATED:20260424T155506Z
LAST-MODIFIED:20260424T155542Z
UID:10001038-1786451400-1786456800@bluhawksports.com
SUMMARY:Public Skate
DESCRIPTION:
URL:https://bluhawksports.com/event/public-skate-4/2026-08-11/
LOCATION:Bluhawk Ice Rink
CATEGORIES:Events
END:VEVENT
BEGIN:VEVENT
DTSTART;TZID=America/Chicago:20260812T123000
DTEND;TZID=America/Chicago:20260812T140000
DTSTAMP:20260425T082943
CREATED:20260424T155506Z
LAST-MODIFIED:20260424T155542Z
UID:10001039-1786537800-1786543200@bluhawksports.com
SUMMARY:Public Skate
DESCRIPTION:
URL:https://bluhawksports.com/event/public-skate-4/2026-08-12/
LOCATION:Bluhawk Ice Rink
CATEGORIES:Events
END:VEVENT
BEGIN:VEVENT
DTSTART;TZID=America/Chicago:20260813T123000
DTEND;TZID=America/Chicago:20260813T140000
DTSTAMP:20260425T082943
CREATED:20260424T155506Z
LAST-MODIFIED:20260424T155542Z
UID:10001040-1786624200-1786629600@bluhawksports.com
SUMMARY:Public Skate
DESCRIPTION:
URL:https://bluhawksports.com/event/public-skate-4/2026-08-13/
LOCATION:Bluhawk Ice Rink
CATEGORIES:Events
END:VEVENT
BEGIN:VEVENT
DTSTART;TZID=America/Chicago:20260814T140000
DTEND;TZID=America/Chicago:20260814T160000
DTSTAMP:20260425T082943
CREATED:20260424T153637Z
LAST-MODIFIED:20260424T153730Z
UID:10000242-1786716000-1786723200@bluhawksports.com
SUMMARY:Public Skate
DESCRIPTION:
URL:https://bluhawksports.com/event/public-skate-3/2026-08-14/
LOCATION:Bluhawk Ice Rink
CATEGORIES:Events
END:VEVENT
END:VCALENDAR