BEGIN:VCALENDAR
VERSION:2.0
PRODID:-//AdventHealth Sports Park at Bluhawk - ECPv6.15.20//NONSGML v1.0//EN
CALSCALE:GREGORIAN
METHOD:PUBLISH
X-ORIGINAL-URL:https://bluhawksports.com
X-WR-CALDESC:Events for AdventHealth Sports Park at Bluhawk
REFRESH-INTERVAL;VALUE=DURATION:PT1H
X-Robots-Tag:noindex
X-PUBLISHED-TTL:PT1H
BEGIN:VTIMEZONE
TZID:America/Chicago
BEGIN:DAYLIGHT
TZOFFSETFROM:-0600
TZOFFSETTO:-0500
TZNAME:CDT
DTSTART:20250309T080000
END:DAYLIGHT
BEGIN:STANDARD
TZOFFSETFROM:-0500
TZOFFSETTO:-0600
TZNAME:CST
DTSTART:20251102T070000
END:STANDARD
BEGIN:DAYLIGHT
TZOFFSETFROM:-0600
TZOFFSETTO:-0500
TZNAME:CDT
DTSTART:20260308T080000
END:DAYLIGHT
BEGIN:STANDARD
TZOFFSETFROM:-0500
TZOFFSETTO:-0600
TZNAME:CST
DTSTART:20261101T070000
END:STANDARD
BEGIN:DAYLIGHT
TZOFFSETFROM:-0600
TZOFFSETTO:-0500
TZNAME:CDT
DTSTART:20270314T080000
END:DAYLIGHT
BEGIN:STANDARD
TZOFFSETFROM:-0500
TZOFFSETTO:-0600
TZNAME:CST
DTSTART:20271107T070000
END:STANDARD
END:VTIMEZONE
BEGIN:VEVENT
DTSTART;TZID=America/Chicago:20260828T140000
DTEND;TZID=America/Chicago:20260828T160000
DTSTAMP:20260425T100335
CREATED:20260424T153637Z
LAST-MODIFIED:20260424T153730Z
UID:10000248-1787925600-1787932800@bluhawksports.com
SUMMARY:Public Skate
DESCRIPTION:
URL:https://bluhawksports.com/event/public-skate-3/2026-08-28/
LOCATION:Bluhawk Ice Rink
CATEGORIES:Events
END:VEVENT
BEGIN:VEVENT
DTSTART;TZID=America/Chicago:20260829T140000
DTEND;TZID=America/Chicago:20260829T160000
DTSTAMP:20260425T100335
CREATED:20260424T153637Z
LAST-MODIFIED:20260424T153730Z
UID:10000249-1788012000-1788019200@bluhawksports.com
SUMMARY:Public Skate
DESCRIPTION:
URL:https://bluhawksports.com/event/public-skate-3/2026-08-29/
LOCATION:Bluhawk Ice Rink
CATEGORIES:Events
END:VEVENT
BEGIN:VEVENT
DTSTART;TZID=America/Chicago:20260830T140000
DTEND;TZID=America/Chicago:20260830T160000
DTSTAMP:20260425T100335
CREATED:20260424T153637Z
LAST-MODIFIED:20260424T153730Z
UID:10000250-1788098400-1788105600@bluhawksports.com
SUMMARY:Public Skate
DESCRIPTION:
URL:https://bluhawksports.com/event/public-skate-3/2026-08-30/
LOCATION:Bluhawk Ice Rink
CATEGORIES:Events
END:VEVENT
BEGIN:VEVENT
DTSTART;TZID=America/Chicago:20260831T123000
DTEND;TZID=America/Chicago:20260831T140000
DTSTAMP:20260425T100335
CREATED:20260424T155506Z
LAST-MODIFIED:20260424T155542Z
UID:10001049-1788179400-1788184800@bluhawksports.com
SUMMARY:Public Skate
DESCRIPTION:
URL:https://bluhawksports.com/event/public-skate-4/2026-08-31/
LOCATION:Bluhawk Ice Rink
CATEGORIES:Events
END:VEVENT
BEGIN:VEVENT
DTSTART;TZID=America/Chicago:20260901T123000
DTEND;TZID=America/Chicago:20260901T140000
DTSTAMP:20260425T100335
CREATED:20260424T155506Z
LAST-MODIFIED:20260424T155542Z
UID:10001050-1788265800-1788271200@bluhawksports.com
SUMMARY:Public Skate
DESCRIPTION:
URL:https://bluhawksports.com/event/public-skate-4/2026-09-01/
LOCATION:Bluhawk Ice Rink
CATEGORIES:Events
END:VEVENT
BEGIN:VEVENT
DTSTART;TZID=America/Chicago:20260902T123000
DTEND;TZID=America/Chicago:20260902T140000
DTSTAMP:20260425T100335
CREATED:20260424T155506Z
LAST-MODIFIED:20260424T155542Z
UID:10001051-1788352200-1788357600@bluhawksports.com
SUMMARY:Public Skate
DESCRIPTION:
URL:https://bluhawksports.com/event/public-skate-4/2026-09-02/
LOCATION:Bluhawk Ice Rink
CATEGORIES:Events
END:VEVENT
BEGIN:VEVENT
DTSTART;TZID=America/Chicago:20260903T123000
DTEND;TZID=America/Chicago:20260903T140000
DTSTAMP:20260425T100335
CREATED:20260424T155506Z
LAST-MODIFIED:20260424T155542Z
UID:10001052-1788438600-1788444000@bluhawksports.com
SUMMARY:Public Skate
DESCRIPTION:
URL:https://bluhawksports.com/event/public-skate-4/2026-09-03/
LOCATION:Bluhawk Ice Rink
CATEGORIES:Events
END:VEVENT
BEGIN:VEVENT
DTSTART;TZID=America/Chicago:20260904T140000
DTEND;TZID=America/Chicago:20260904T160000
DTSTAMP:20260425T100335
CREATED:20260424T153637Z
LAST-MODIFIED:20260424T153730Z
UID:10000251-1788530400-1788537600@bluhawksports.com
SUMMARY:Public Skate
DESCRIPTION:
URL:https://bluhawksports.com/event/public-skate-3/2026-09-04/
LOCATION:Bluhawk Ice Rink
CATEGORIES:Events
END:VEVENT
BEGIN:VEVENT
DTSTART;TZID=America/Chicago:20260905T140000
DTEND;TZID=America/Chicago:20260905T160000
DTSTAMP:20260425T100335
CREATED:20260424T153637Z
LAST-MODIFIED:20260424T153730Z
UID:10000252-1788616800-1788624000@bluhawksports.com
SUMMARY:Public Skate
DESCRIPTION:
URL:https://bluhawksports.com/event/public-skate-3/2026-09-05/
LOCATION:Bluhawk Ice Rink
CATEGORIES:Events
END:VEVENT
BEGIN:VEVENT
DTSTART;TZID=America/Chicago:20260905T180000
DTEND;TZID=America/Chicago:20260905T230000
DTSTAMP:20260425T100335
CREATED:20251106T173436Z
LAST-MODIFIED:20251106T173437Z
UID:10000160-1788631200-1788649200@bluhawksports.com
SUMMARY:Crash Combat - MMA
DESCRIPTION:Get ready for an all-out war in the cage as Crash Combat Championship VI brings the heat! Expect a night packed with intense battles\, jaw-dropping action\, and nonstop adrenaline from the first bell to the final knockout. \n\n\n\nStay tuned for more fight announcements\, and grab your spot early—this night is going to be explosive
URL:https://bluhawksports.com/event/crash-combat-mma/
CATEGORIES:Events
ATTACH;FMTTYPE=image/jpeg:https://bluhawksports.com/wp-content/uploads/2025/07/crash.jpg
END:VEVENT
BEGIN:VEVENT
DTSTART;TZID=America/Chicago:20260906T140000
DTEND;TZID=America/Chicago:20260906T160000
DTSTAMP:20260425T100335
CREATED:20260424T153637Z
LAST-MODIFIED:20260424T153730Z
UID:10000253-1788703200-1788710400@bluhawksports.com
SUMMARY:Public Skate
DESCRIPTION:
URL:https://bluhawksports.com/event/public-skate-3/2026-09-06/
LOCATION:Bluhawk Ice Rink
CATEGORIES:Events
END:VEVENT
BEGIN:VEVENT
DTSTART;TZID=America/Chicago:20260907T123000
DTEND;TZID=America/Chicago:20260907T140000
DTSTAMP:20260425T100335
CREATED:20260424T155506Z
LAST-MODIFIED:20260424T155542Z
UID:10001053-1788784200-1788789600@bluhawksports.com
SUMMARY:Public Skate
DESCRIPTION:
URL:https://bluhawksports.com/event/public-skate-4/2026-09-07/
LOCATION:Bluhawk Ice Rink
CATEGORIES:Events
END:VEVENT
BEGIN:VEVENT
DTSTART;TZID=America/Chicago:20260908T123000
DTEND;TZID=America/Chicago:20260908T140000
DTSTAMP:20260425T100335
CREATED:20260424T155506Z
LAST-MODIFIED:20260424T155542Z
UID:10001054-1788870600-1788876000@bluhawksports.com
SUMMARY:Public Skate
DESCRIPTION:
URL:https://bluhawksports.com/event/public-skate-4/2026-09-08/
LOCATION:Bluhawk Ice Rink
CATEGORIES:Events
END:VEVENT
BEGIN:VEVENT
DTSTART;TZID=America/Chicago:20260909T123000
DTEND;TZID=America/Chicago:20260909T140000
DTSTAMP:20260425T100335
CREATED:20260424T155506Z
LAST-MODIFIED:20260424T155542Z
UID:10001055-1788957000-1788962400@bluhawksports.com
SUMMARY:Public Skate
DESCRIPTION:
URL:https://bluhawksports.com/event/public-skate-4/2026-09-09/
LOCATION:Bluhawk Ice Rink
CATEGORIES:Events
END:VEVENT
BEGIN:VEVENT
DTSTART;TZID=America/Chicago:20260910T123000
DTEND;TZID=America/Chicago:20260910T140000
DTSTAMP:20260425T100335
CREATED:20260424T155506Z
LAST-MODIFIED:20260424T155542Z
UID:10001056-1789043400-1789048800@bluhawksports.com
SUMMARY:Public Skate
DESCRIPTION:
URL:https://bluhawksports.com/event/public-skate-4/2026-09-10/
LOCATION:Bluhawk Ice Rink
CATEGORIES:Events
END:VEVENT
BEGIN:VEVENT
DTSTART;TZID=America/Chicago:20260911T140000
DTEND;TZID=America/Chicago:20260911T160000
DTSTAMP:20260425T100335
CREATED:20260424T153637Z
LAST-MODIFIED:20260424T153730Z
UID:10000254-1789135200-1789142400@bluhawksports.com
SUMMARY:Public Skate
DESCRIPTION:
URL:https://bluhawksports.com/event/public-skate-3/2026-09-11/
LOCATION:Bluhawk Ice Rink
CATEGORIES:Events
END:VEVENT
BEGIN:VEVENT
DTSTART;TZID=America/Chicago:20260912T140000
DTEND;TZID=America/Chicago:20260912T160000
DTSTAMP:20260425T100335
CREATED:20260424T153637Z
LAST-MODIFIED:20260424T153730Z
UID:10000255-1789221600-1789228800@bluhawksports.com
SUMMARY:Public Skate
DESCRIPTION:
URL:https://bluhawksports.com/event/public-skate-3/2026-09-12/
LOCATION:Bluhawk Ice Rink
CATEGORIES:Events
END:VEVENT
BEGIN:VEVENT
DTSTART;TZID=America/Chicago:20260913T140000
DTEND;TZID=America/Chicago:20260913T160000
DTSTAMP:20260425T100335
CREATED:20260424T153637Z
LAST-MODIFIED:20260424T153730Z
UID:10000256-1789308000-1789315200@bluhawksports.com
SUMMARY:Public Skate
DESCRIPTION:
URL:https://bluhawksports.com/event/public-skate-3/2026-09-13/
LOCATION:Bluhawk Ice Rink
CATEGORIES:Events
END:VEVENT
BEGIN:VEVENT
DTSTART;TZID=America/Chicago:20260914T123000
DTEND;TZID=America/Chicago:20260914T140000
DTSTAMP:20260425T100335
CREATED:20260424T155506Z
LAST-MODIFIED:20260424T155542Z
UID:10001057-1789389000-1789394400@bluhawksports.com
SUMMARY:Public Skate
DESCRIPTION:
URL:https://bluhawksports.com/event/public-skate-4/2026-09-14/
LOCATION:Bluhawk Ice Rink
CATEGORIES:Events
END:VEVENT
BEGIN:VEVENT
DTSTART;TZID=America/Chicago:20260915T123000
DTEND;TZID=America/Chicago:20260915T140000
DTSTAMP:20260425T100335
CREATED:20260424T155506Z
LAST-MODIFIED:20260424T155542Z
UID:10001058-1789475400-1789480800@bluhawksports.com
SUMMARY:Public Skate
DESCRIPTION:
URL:https://bluhawksports.com/event/public-skate-4/2026-09-15/
LOCATION:Bluhawk Ice Rink
CATEGORIES:Events
END:VEVENT
BEGIN:VEVENT
DTSTART;TZID=America/Chicago:20260916T123000
DTEND;TZID=America/Chicago:20260916T140000
DTSTAMP:20260425T100335
CREATED:20260424T155506Z
LAST-MODIFIED:20260424T155542Z
UID:10001059-1789561800-1789567200@bluhawksports.com
SUMMARY:Public Skate
DESCRIPTION:
URL:https://bluhawksports.com/event/public-skate-4/2026-09-16/
LOCATION:Bluhawk Ice Rink
CATEGORIES:Events
END:VEVENT
BEGIN:VEVENT
DTSTART;TZID=America/Chicago:20260917T123000
DTEND;TZID=America/Chicago:20260917T140000
DTSTAMP:20260425T100335
CREATED:20260424T155506Z
LAST-MODIFIED:20260424T155542Z
UID:10001060-1789648200-1789653600@bluhawksports.com
SUMMARY:Public Skate
DESCRIPTION:
URL:https://bluhawksports.com/event/public-skate-4/2026-09-17/
LOCATION:Bluhawk Ice Rink
CATEGORIES:Events
END:VEVENT
BEGIN:VEVENT
DTSTART;TZID=America/Chicago:20260918T140000
DTEND;TZID=America/Chicago:20260918T160000
DTSTAMP:20260425T100335
CREATED:20260424T153637Z
LAST-MODIFIED:20260424T153730Z
UID:10000257-1789740000-1789747200@bluhawksports.com
SUMMARY:Public Skate
DESCRIPTION:
URL:https://bluhawksports.com/event/public-skate-3/2026-09-18/
LOCATION:Bluhawk Ice Rink
CATEGORIES:Events
END:VEVENT
BEGIN:VEVENT
DTSTART;TZID=America/Chicago:20260919T140000
DTEND;TZID=America/Chicago:20260919T160000
DTSTAMP:20260425T100335
CREATED:20260424T153637Z
LAST-MODIFIED:20260424T153730Z
UID:10000258-1789826400-1789833600@bluhawksports.com
SUMMARY:Public Skate
DESCRIPTION:
URL:https://bluhawksports.com/event/public-skate-3/2026-09-19/
LOCATION:Bluhawk Ice Rink
CATEGORIES:Events
END:VEVENT
BEGIN:VEVENT
DTSTART;TZID=America/Chicago:20260920T140000
DTEND;TZID=America/Chicago:20260920T160000
DTSTAMP:20260425T100335
CREATED:20260424T153637Z
LAST-MODIFIED:20260424T153730Z
UID:10000259-1789912800-1789920000@bluhawksports.com
SUMMARY:Public Skate
DESCRIPTION:
URL:https://bluhawksports.com/event/public-skate-3/2026-09-20/
LOCATION:Bluhawk Ice Rink
CATEGORIES:Events
END:VEVENT
BEGIN:VEVENT
DTSTART;TZID=America/Chicago:20260921T123000
DTEND;TZID=America/Chicago:20260921T140000
DTSTAMP:20260425T100335
CREATED:20260424T155506Z
LAST-MODIFIED:20260424T155542Z
UID:10001061-1789993800-1789999200@bluhawksports.com
SUMMARY:Public Skate
DESCRIPTION:
URL:https://bluhawksports.com/event/public-skate-4/2026-09-21/
LOCATION:Bluhawk Ice Rink
CATEGORIES:Events
END:VEVENT
BEGIN:VEVENT
DTSTART;TZID=America/Chicago:20260922T123000
DTEND;TZID=America/Chicago:20260922T140000
DTSTAMP:20260425T100335
CREATED:20260424T155506Z
LAST-MODIFIED:20260424T155542Z
UID:10001062-1790080200-1790085600@bluhawksports.com
SUMMARY:Public Skate
DESCRIPTION:
URL:https://bluhawksports.com/event/public-skate-4/2026-09-22/
LOCATION:Bluhawk Ice Rink
CATEGORIES:Events
END:VEVENT
BEGIN:VEVENT
DTSTART;TZID=America/Chicago:20260923T123000
DTEND;TZID=America/Chicago:20260923T140000
DTSTAMP:20260425T100335
CREATED:20260424T155506Z
LAST-MODIFIED:20260424T155542Z
UID:10001063-1790166600-1790172000@bluhawksports.com
SUMMARY:Public Skate
DESCRIPTION:
URL:https://bluhawksports.com/event/public-skate-4/2026-09-23/
LOCATION:Bluhawk Ice Rink
CATEGORIES:Events
END:VEVENT
BEGIN:VEVENT
DTSTART;TZID=America/Chicago:20260924T123000
DTEND;TZID=America/Chicago:20260924T140000
DTSTAMP:20260425T100335
CREATED:20260424T155506Z
LAST-MODIFIED:20260424T155542Z
UID:10001064-1790253000-1790258400@bluhawksports.com
SUMMARY:Public Skate
DESCRIPTION:
URL:https://bluhawksports.com/event/public-skate-4/2026-09-24/
LOCATION:Bluhawk Ice Rink
CATEGORIES:Events
END:VEVENT
BEGIN:VEVENT
DTSTART;TZID=America/Chicago:20260925T140000
DTEND;TZID=America/Chicago:20260925T160000
DTSTAMP:20260425T100335
CREATED:20260424T153637Z
LAST-MODIFIED:20260424T153730Z
UID:10000260-1790344800-1790352000@bluhawksports.com
SUMMARY:Public Skate
DESCRIPTION:
URL:https://bluhawksports.com/event/public-skate-3/2026-09-25/
LOCATION:Bluhawk Ice Rink
CATEGORIES:Events
END:VEVENT
END:VCALENDAR