BEGIN:VCALENDAR
VERSION:2.0
PRODID:-//AdventHealth Sports Park at Bluhawk - ECPv6.15.20//NONSGML v1.0//EN
CALSCALE:GREGORIAN
METHOD:PUBLISH
X-WR-CALNAME:AdventHealth Sports Park at Bluhawk
X-ORIGINAL-URL:https://bluhawksports.com
X-WR-CALDESC:Events for AdventHealth Sports Park at Bluhawk
REFRESH-INTERVAL;VALUE=DURATION:PT1H
X-Robots-Tag:noindex
X-PUBLISHED-TTL:PT1H
BEGIN:VTIMEZONE
TZID:America/Chicago
BEGIN:DAYLIGHT
TZOFFSETFROM:-0600
TZOFFSETTO:-0500
TZNAME:CDT
DTSTART:20250309T080000
END:DAYLIGHT
BEGIN:STANDARD
TZOFFSETFROM:-0500
TZOFFSETTO:-0600
TZNAME:CST
DTSTART:20251102T070000
END:STANDARD
BEGIN:DAYLIGHT
TZOFFSETFROM:-0600
TZOFFSETTO:-0500
TZNAME:CDT
DTSTART:20260308T080000
END:DAYLIGHT
BEGIN:STANDARD
TZOFFSETFROM:-0500
TZOFFSETTO:-0600
TZNAME:CST
DTSTART:20261101T070000
END:STANDARD
BEGIN:DAYLIGHT
TZOFFSETFROM:-0600
TZOFFSETTO:-0500
TZNAME:CDT
DTSTART:20270314T080000
END:DAYLIGHT
BEGIN:STANDARD
TZOFFSETFROM:-0500
TZOFFSETTO:-0600
TZNAME:CST
DTSTART:20271107T070000
END:STANDARD
END:VTIMEZONE
BEGIN:VEVENT
DTSTART;TZID=America/Chicago:20260516T140000
DTEND;TZID=America/Chicago:20260516T160000
DTSTAMP:20260425T082820
CREATED:20260424T153637Z
LAST-MODIFIED:20260424T153730Z
UID:10000204-1778940000-1778947200@bluhawksports.com
SUMMARY:Public Skate
DESCRIPTION:
URL:https://bluhawksports.com/event/public-skate-3/2026-05-16/
LOCATION:Bluhawk Ice Rink
CATEGORIES:Events
END:VEVENT
BEGIN:VEVENT
DTSTART;TZID=America/Chicago:20260515T140000
DTEND;TZID=America/Chicago:20260515T160000
DTSTAMP:20260425T082820
CREATED:20260424T153637Z
LAST-MODIFIED:20260424T153730Z
UID:10000203-1778853600-1778860800@bluhawksports.com
SUMMARY:Public Skate
DESCRIPTION:
URL:https://bluhawksports.com/event/public-skate-3/2026-05-15/
LOCATION:Bluhawk Ice Rink
CATEGORIES:Events
END:VEVENT
BEGIN:VEVENT
DTSTART;TZID=America/Chicago:20260515T000000
DTEND;TZID=America/Chicago:20260517T235959
DTSTAMP:20260425T082820
CREATED:20250930T143323Z
LAST-MODIFIED:20251014T151049Z
UID:10000149-1778803200-1779062399@bluhawksports.com
SUMMARY:Recruit Look May Showcase
DESCRIPTION:
URL:https://bluhawksports.com/event/recruit-look-may-showcase/
CATEGORIES:Events
ATTACH;FMTTYPE=image/png:https://bluhawksports.com/wp-content/uploads/2025/09/22.png
END:VEVENT
BEGIN:VEVENT
DTSTART;TZID=America/Chicago:20260514T123000
DTEND;TZID=America/Chicago:20260514T140000
DTSTAMP:20260425T082820
CREATED:20260424T155506Z
LAST-MODIFIED:20260424T155542Z
UID:10000988-1778761800-1778767200@bluhawksports.com
SUMMARY:Public Skate
DESCRIPTION:
URL:https://bluhawksports.com/event/public-skate-4/2026-05-14/
LOCATION:Bluhawk Ice Rink
CATEGORIES:Events
END:VEVENT
BEGIN:VEVENT
DTSTART;TZID=America/Chicago:20260513T123000
DTEND;TZID=America/Chicago:20260513T140000
DTSTAMP:20260425T082820
CREATED:20260424T155506Z
LAST-MODIFIED:20260424T155542Z
UID:10000987-1778675400-1778680800@bluhawksports.com
SUMMARY:Public Skate
DESCRIPTION:
URL:https://bluhawksports.com/event/public-skate-4/2026-05-13/
LOCATION:Bluhawk Ice Rink
CATEGORIES:Events
END:VEVENT
BEGIN:VEVENT
DTSTART;TZID=America/Chicago:20260512T123000
DTEND;TZID=America/Chicago:20260512T140000
DTSTAMP:20260425T082820
CREATED:20260424T155506Z
LAST-MODIFIED:20260424T155542Z
UID:10000986-1778589000-1778594400@bluhawksports.com
SUMMARY:Public Skate
DESCRIPTION:
URL:https://bluhawksports.com/event/public-skate-4/2026-05-12/
LOCATION:Bluhawk Ice Rink
CATEGORIES:Events
END:VEVENT
BEGIN:VEVENT
DTSTART;TZID=America/Chicago:20260511T123000
DTEND;TZID=America/Chicago:20260511T140000
DTSTAMP:20260425T082820
CREATED:20260424T155506Z
LAST-MODIFIED:20260424T155542Z
UID:10000985-1778502600-1778508000@bluhawksports.com
SUMMARY:Public Skate
DESCRIPTION:
URL:https://bluhawksports.com/event/public-skate-4/2026-05-11/
LOCATION:Bluhawk Ice Rink
CATEGORIES:Events
END:VEVENT
BEGIN:VEVENT
DTSTART;TZID=America/Chicago:20260510T140000
DTEND;TZID=America/Chicago:20260510T160000
DTSTAMP:20260425T082820
CREATED:20260424T153637Z
LAST-MODIFIED:20260424T153730Z
UID:10000202-1778421600-1778428800@bluhawksports.com
SUMMARY:Public Skate
DESCRIPTION:
URL:https://bluhawksports.com/event/public-skate-3/2026-05-10/
LOCATION:Bluhawk Ice Rink
CATEGORIES:Events
END:VEVENT
BEGIN:VEVENT
DTSTART;TZID=America/Chicago:20260509T140000
DTEND;TZID=America/Chicago:20260509T160000
DTSTAMP:20260425T082820
CREATED:20260424T153637Z
LAST-MODIFIED:20260424T153730Z
UID:10000201-1778335200-1778342400@bluhawksports.com
SUMMARY:Public Skate
DESCRIPTION:
URL:https://bluhawksports.com/event/public-skate-3/2026-05-09/
LOCATION:Bluhawk Ice Rink
CATEGORIES:Events
END:VEVENT
BEGIN:VEVENT
DTSTART;TZID=America/Chicago:20260508T140000
DTEND;TZID=America/Chicago:20260508T160000
DTSTAMP:20260425T082820
CREATED:20260424T153637Z
LAST-MODIFIED:20260424T153730Z
UID:10000200-1778248800-1778256000@bluhawksports.com
SUMMARY:Public Skate
DESCRIPTION:
URL:https://bluhawksports.com/event/public-skate-3/2026-05-08/
LOCATION:Bluhawk Ice Rink
CATEGORIES:Events
END:VEVENT
BEGIN:VEVENT
DTSTART;TZID=America/Chicago:20260508T000000
DTEND;TZID=America/Chicago:20260510T235959
DTSTAMP:20260425T082820
CREATED:20250925T163934Z
LAST-MODIFIED:20250925T163958Z
UID:10000147-1778198400-1778457599@bluhawksports.com
SUMMARY:NXTPRO Hoops Tournament
DESCRIPTION:
URL:https://bluhawksports.com/event/nxtpro-hoops-tournament/
CATEGORIES:Events
ATTACH;FMTTYPE=image/png:https://bluhawksports.com/wp-content/uploads/2025/09/download-1-1.png
END:VEVENT
BEGIN:VEVENT
DTSTART;TZID=America/Chicago:20260507T123000
DTEND;TZID=America/Chicago:20260507T140000
DTSTAMP:20260425T082820
CREATED:20260424T155506Z
LAST-MODIFIED:20260424T155542Z
UID:10000984-1778157000-1778162400@bluhawksports.com
SUMMARY:Public Skate
DESCRIPTION:
URL:https://bluhawksports.com/event/public-skate-4/2026-05-07/
LOCATION:Bluhawk Ice Rink
CATEGORIES:Events
END:VEVENT
BEGIN:VEVENT
DTSTART;TZID=America/Chicago:20260506T123000
DTEND;TZID=America/Chicago:20260506T140000
DTSTAMP:20260425T082820
CREATED:20260424T155506Z
LAST-MODIFIED:20260424T155542Z
UID:10000983-1778070600-1778076000@bluhawksports.com
SUMMARY:Public Skate
DESCRIPTION:
URL:https://bluhawksports.com/event/public-skate-4/2026-05-06/
LOCATION:Bluhawk Ice Rink
CATEGORIES:Events
END:VEVENT
BEGIN:VEVENT
DTSTART;TZID=America/Chicago:20260505T123000
DTEND;TZID=America/Chicago:20260505T140000
DTSTAMP:20260425T082820
CREATED:20260424T155506Z
LAST-MODIFIED:20260424T155542Z
UID:10000982-1777984200-1777989600@bluhawksports.com
SUMMARY:Public Skate
DESCRIPTION:
URL:https://bluhawksports.com/event/public-skate-4/2026-05-05/
LOCATION:Bluhawk Ice Rink
CATEGORIES:Events
END:VEVENT
BEGIN:VEVENT
DTSTART;TZID=America/Chicago:20260504T123000
DTEND;TZID=America/Chicago:20260504T140000
DTSTAMP:20260425T082820
CREATED:20260424T155506Z
LAST-MODIFIED:20260424T155542Z
UID:10000981-1777897800-1777903200@bluhawksports.com
SUMMARY:Public Skate
DESCRIPTION:
URL:https://bluhawksports.com/event/public-skate-4/2026-05-04/
LOCATION:Bluhawk Ice Rink
CATEGORIES:Events
END:VEVENT
BEGIN:VEVENT
DTSTART;TZID=America/Chicago:20260503T140000
DTEND;TZID=America/Chicago:20260503T160000
DTSTAMP:20260425T082820
CREATED:20260424T153637Z
LAST-MODIFIED:20260424T153730Z
UID:10000199-1777816800-1777824000@bluhawksports.com
SUMMARY:Public Skate
DESCRIPTION:
URL:https://bluhawksports.com/event/public-skate-3/2026-05-03/
LOCATION:Bluhawk Ice Rink
CATEGORIES:Events
END:VEVENT
BEGIN:VEVENT
DTSTART;TZID=America/Chicago:20260502T140000
DTEND;TZID=America/Chicago:20260502T160000
DTSTAMP:20260425T082820
CREATED:20260424T153637Z
LAST-MODIFIED:20260424T153730Z
UID:10000198-1777730400-1777737600@bluhawksports.com
SUMMARY:Public Skate
DESCRIPTION:
URL:https://bluhawksports.com/event/public-skate-3/2026-05-02/
LOCATION:Bluhawk Ice Rink
CATEGORIES:Events
END:VEVENT
BEGIN:VEVENT
DTSTART;TZID=America/Chicago:20260501T140000
DTEND;TZID=America/Chicago:20260501T160000
DTSTAMP:20260425T082820
CREATED:20260424T153637Z
LAST-MODIFIED:20260424T153730Z
UID:10000197-1777644000-1777651200@bluhawksports.com
SUMMARY:Public Skate
DESCRIPTION:
URL:https://bluhawksports.com/event/public-skate-3/2026-05-01/
LOCATION:Bluhawk Ice Rink
CATEGORIES:Events
END:VEVENT
BEGIN:VEVENT
DTSTART;TZID=America/Chicago:20260430T123000
DTEND;TZID=America/Chicago:20260430T140000
DTSTAMP:20260425T082820
CREATED:20260424T155506Z
LAST-MODIFIED:20260424T155542Z
UID:10000980-1777552200-1777557600@bluhawksports.com
SUMMARY:Public Skate
DESCRIPTION:
URL:https://bluhawksports.com/event/public-skate-4/2026-04-30/
LOCATION:Bluhawk Ice Rink
CATEGORIES:Events
END:VEVENT
BEGIN:VEVENT
DTSTART;TZID=America/Chicago:20260429T123000
DTEND;TZID=America/Chicago:20260429T140000
DTSTAMP:20260425T082820
CREATED:20260424T155506Z
LAST-MODIFIED:20260424T155542Z
UID:10000979-1777465800-1777471200@bluhawksports.com
SUMMARY:Public Skate
DESCRIPTION:
URL:https://bluhawksports.com/event/public-skate-4/2026-04-29/
LOCATION:Bluhawk Ice Rink
CATEGORIES:Events
END:VEVENT
BEGIN:VEVENT
DTSTART;TZID=America/Chicago:20260428T123000
DTEND;TZID=America/Chicago:20260428T140000
DTSTAMP:20260425T082820
CREATED:20260424T155506Z
LAST-MODIFIED:20260424T155542Z
UID:10000978-1777379400-1777384800@bluhawksports.com
SUMMARY:Public Skate
DESCRIPTION:
URL:https://bluhawksports.com/event/public-skate-4/2026-04-28/
LOCATION:Bluhawk Ice Rink
CATEGORIES:Events
END:VEVENT
BEGIN:VEVENT
DTSTART;TZID=America/Chicago:20260427T123000
DTEND;TZID=America/Chicago:20260427T140000
DTSTAMP:20260425T082820
CREATED:20260424T155506Z
LAST-MODIFIED:20260424T155542Z
UID:10000977-1777293000-1777298400@bluhawksports.com
SUMMARY:Public Skate
DESCRIPTION:
URL:https://bluhawksports.com/event/public-skate-4/2026-04-27/
LOCATION:Bluhawk Ice Rink
CATEGORIES:Events
END:VEVENT
BEGIN:VEVENT
DTSTART;TZID=America/Chicago:20260426T140000
DTEND;TZID=America/Chicago:20260426T160000
DTSTAMP:20260425T082820
CREATED:20260424T153637Z
LAST-MODIFIED:20260424T153730Z
UID:10000196-1777212000-1777219200@bluhawksports.com
SUMMARY:Public Skate
DESCRIPTION:
URL:https://bluhawksports.com/event/public-skate-3/2026-04-26/
LOCATION:Bluhawk Ice Rink
CATEGORIES:Events
END:VEVENT
BEGIN:VEVENT
DTSTART;TZID=America/Chicago:20260424T000000
DTEND;TZID=America/Chicago:20260426T235959
DTSTAMP:20260425T082820
CREATED:20250916T162439Z
LAST-MODIFIED:20251014T151054Z
UID:10000143-1776988800-1777247999@bluhawksports.com
SUMMARY:Recruit Look Basketball Tournament
DESCRIPTION:
URL:https://bluhawksports.com/event/recruit-look-basketball-tournament/
CATEGORIES:Events
ATTACH;FMTTYPE=image/png:https://bluhawksports.com/wp-content/uploads/2025/09/download-2.png
END:VEVENT
BEGIN:VEVENT
DTSTART;TZID=America/Chicago:20260418T140000
DTEND;TZID=America/Chicago:20260418T160000
DTSTAMP:20260425T082820
CREATED:20260417T164901Z
LAST-MODIFIED:20260421T143727Z
UID:10000194-1776520800-1776528000@bluhawksports.com
SUMMARY:Public Skate
DESCRIPTION:
URL:https://bluhawksports.com/event/public-skate-2/
LOCATION:Bluhawk Ice Rink
CATEGORIES:Events
END:VEVENT
BEGIN:VEVENT
DTSTART;TZID=America/Chicago:20260415T080000
DTEND;TZID=America/Chicago:20260415T170000
DTSTAMP:20260425T082820
CREATED:20260415T190726Z
LAST-MODIFIED:20260415T190727Z
UID:10000193-1776240000-1776272400@bluhawksports.com
SUMMARY:
DESCRIPTION:
URL:https://bluhawksports.com/event/13267/
END:VEVENT
BEGIN:VEVENT
DTSTART;TZID=America/Chicago:20260404T100000
DTEND;TZID=America/Chicago:20260404T120000
DTSTAMP:20260425T082820
CREATED:20260216T164854Z
LAST-MODIFIED:20260216T165015Z
UID:10000189-1775296800-1775304000@bluhawksports.com
SUMMARY:Easter Brunch and Games
DESCRIPTION:Enjoy a festive brunch buffet\, 2 FREE hours of game play at Hawk’s Outpost\, and photos with the Easter Bunny!
URL:https://bluhawksports.com/event/easter-brunch-and-games/
ATTACH;FMTTYPE=image/png:https://bluhawksports.com/wp-content/uploads/2026/02/easter-brinch-pic.png
END:VEVENT
BEGIN:VEVENT
DTSTART;TZID=America/Chicago:20260403T000000
DTEND;TZID=America/Chicago:20260405T235959
DTSTAMP:20260425T082820
CREATED:20251202T180503Z
LAST-MODIFIED:20251202T180504Z
UID:10000180-1775174400-1775433599@bluhawksports.com
SUMMARY:Recruit Look Tournament
DESCRIPTION:
URL:https://bluhawksports.com/event/recruit-look-tournament/
CATEGORIES:Events
ATTACH;FMTTYPE=image/png:https://bluhawksports.com/wp-content/uploads/2025/09/22.png
END:VEVENT
BEGIN:VEVENT
DTSTART;TZID=America/Chicago:20260321T080000
DTEND;TZID=America/Chicago:20260321T200000
DTSTAMP:20260425T082820
CREATED:20251215T172150Z
LAST-MODIFIED:20251215T172152Z
UID:10000184-1774080000-1774123200@bluhawksports.com
SUMMARY:Heart of America Esports Conference Championships
DESCRIPTION:At LevelUP Arena\, come watch and find this years conference champion!
URL:https://bluhawksports.com/event/heart-of-america-esports-conference-championships/
CATEGORIES:Events
ATTACH;FMTTYPE=image/jpeg:https://bluhawksports.com/wp-content/uploads/2025/12/HEART_OF_AMERICA_A.jpg
END:VEVENT
BEGIN:VEVENT
DTSTART;TZID=America/Chicago:20260320T080000
DTEND;TZID=America/Chicago:20260322T170000
DTSTAMP:20260425T082820
CREATED:20260306T202244Z
LAST-MODIFIED:20260306T205856Z
UID:10000191-1773993600-1774198800@bluhawksports.com
SUMMARY:2026 KANSAS CITY SIGNATURE OPEN
DESCRIPTION:OVER $150\,000 GUARANTEED IN PRIZES AND CASH PAYOUTS! \n\n\n\nCome out to Overland Park\, KS\, and join in on competitions for amateurs and Pros!  \n\n\n\nThroughout the weekend\, Open events for amateurs run all three days\, giving players of all skill levels the chance to compete and be part of the action.  \n\n\n\nThen\, the spotlight shifts to the pros as the second ACL Pro event of the season takes center stage.  \n\n\n\nBut the highlight of the Pro side will be Week 1 of ACL Pro Teams competition!
URL:https://bluhawksports.com/event/2026-kansas-city-signature-open/
ATTACH;FMTTYPE=image/jpeg:https://bluhawksports.com/wp-content/uploads/2026/03/cornhole-pic-for-bluhawk.jpg
END:VEVENT
END:VCALENDAR