BEGIN:VCALENDAR
VERSION:2.0
PRODID:-//AdventHealth Sports Park at Bluhawk - ECPv6.15.20//NONSGML v1.0//EN
CALSCALE:GREGORIAN
METHOD:PUBLISH
X-ORIGINAL-URL:https://bluhawksports.com
X-WR-CALDESC:Events for AdventHealth Sports Park at Bluhawk
REFRESH-INTERVAL;VALUE=DURATION:PT1H
X-Robots-Tag:noindex
X-PUBLISHED-TTL:PT1H
BEGIN:VTIMEZONE
TZID:America/Chicago
BEGIN:DAYLIGHT
TZOFFSETFROM:-0600
TZOFFSETTO:-0500
TZNAME:CDT
DTSTART:20250309T080000
END:DAYLIGHT
BEGIN:STANDARD
TZOFFSETFROM:-0500
TZOFFSETTO:-0600
TZNAME:CST
DTSTART:20251102T070000
END:STANDARD
BEGIN:DAYLIGHT
TZOFFSETFROM:-0600
TZOFFSETTO:-0500
TZNAME:CDT
DTSTART:20260308T080000
END:DAYLIGHT
BEGIN:STANDARD
TZOFFSETFROM:-0500
TZOFFSETTO:-0600
TZNAME:CST
DTSTART:20261101T070000
END:STANDARD
BEGIN:DAYLIGHT
TZOFFSETFROM:-0600
TZOFFSETTO:-0500
TZNAME:CDT
DTSTART:20270314T080000
END:DAYLIGHT
BEGIN:STANDARD
TZOFFSETFROM:-0500
TZOFFSETTO:-0600
TZNAME:CST
DTSTART:20271107T070000
END:STANDARD
BEGIN:DAYLIGHT
TZOFFSETFROM:-0600
TZOFFSETTO:-0500
TZNAME:CDT
DTSTART:20280312T080000
END:DAYLIGHT
BEGIN:STANDARD
TZOFFSETFROM:-0500
TZOFFSETTO:-0600
TZNAME:CST
DTSTART:20281105T070000
END:STANDARD
END:VTIMEZONE
BEGIN:VEVENT
DTSTART;TZID=America/Chicago:20261211T140000
DTEND;TZID=America/Chicago:20261211T160000
DTSTAMP:20260425T220721
CREATED:20260424T153637Z
LAST-MODIFIED:20260424T153730Z
UID:10000293-1796997600-1797004800@bluhawksports.com
SUMMARY:Public Skate
DESCRIPTION:
URL:https://bluhawksports.com/event/public-skate-3/2026-12-11/
LOCATION:Bluhawk Ice Rink
CATEGORIES:Events
END:VEVENT
BEGIN:VEVENT
DTSTART;TZID=America/Chicago:20261212T140000
DTEND;TZID=America/Chicago:20261212T160000
DTSTAMP:20260425T220721
CREATED:20260424T153637Z
LAST-MODIFIED:20260424T153730Z
UID:10000294-1797084000-1797091200@bluhawksports.com
SUMMARY:Public Skate
DESCRIPTION:
URL:https://bluhawksports.com/event/public-skate-3/2026-12-12/
LOCATION:Bluhawk Ice Rink
CATEGORIES:Events
END:VEVENT
BEGIN:VEVENT
DTSTART;TZID=America/Chicago:20261213T140000
DTEND;TZID=America/Chicago:20261213T160000
DTSTAMP:20260425T220721
CREATED:20260424T153637Z
LAST-MODIFIED:20260424T153730Z
UID:10000295-1797170400-1797177600@bluhawksports.com
SUMMARY:Public Skate
DESCRIPTION:
URL:https://bluhawksports.com/event/public-skate-3/2026-12-13/
LOCATION:Bluhawk Ice Rink
CATEGORIES:Events
END:VEVENT
BEGIN:VEVENT
DTSTART;TZID=America/Chicago:20261214T123000
DTEND;TZID=America/Chicago:20261214T140000
DTSTAMP:20260425T220721
CREATED:20260424T155506Z
LAST-MODIFIED:20260424T155542Z
UID:10001109-1797251400-1797256800@bluhawksports.com
SUMMARY:Public Skate
DESCRIPTION:
URL:https://bluhawksports.com/event/public-skate-4/2026-12-14/
LOCATION:Bluhawk Ice Rink
CATEGORIES:Events
END:VEVENT
BEGIN:VEVENT
DTSTART;TZID=America/Chicago:20261215T123000
DTEND;TZID=America/Chicago:20261215T140000
DTSTAMP:20260425T220721
CREATED:20260424T155506Z
LAST-MODIFIED:20260424T155542Z
UID:10001110-1797337800-1797343200@bluhawksports.com
SUMMARY:Public Skate
DESCRIPTION:
URL:https://bluhawksports.com/event/public-skate-4/2026-12-15/
LOCATION:Bluhawk Ice Rink
CATEGORIES:Events
END:VEVENT
BEGIN:VEVENT
DTSTART;TZID=America/Chicago:20261216T123000
DTEND;TZID=America/Chicago:20261216T140000
DTSTAMP:20260425T220721
CREATED:20260424T155506Z
LAST-MODIFIED:20260424T155542Z
UID:10001111-1797424200-1797429600@bluhawksports.com
SUMMARY:Public Skate
DESCRIPTION:
URL:https://bluhawksports.com/event/public-skate-4/2026-12-16/
LOCATION:Bluhawk Ice Rink
CATEGORIES:Events
END:VEVENT
BEGIN:VEVENT
DTSTART;TZID=America/Chicago:20261217T123000
DTEND;TZID=America/Chicago:20261217T140000
DTSTAMP:20260425T220721
CREATED:20260424T155506Z
LAST-MODIFIED:20260424T155542Z
UID:10001112-1797510600-1797516000@bluhawksports.com
SUMMARY:Public Skate
DESCRIPTION:
URL:https://bluhawksports.com/event/public-skate-4/2026-12-17/
LOCATION:Bluhawk Ice Rink
CATEGORIES:Events
END:VEVENT
BEGIN:VEVENT
DTSTART;TZID=America/Chicago:20261218T140000
DTEND;TZID=America/Chicago:20261218T160000
DTSTAMP:20260425T220721
CREATED:20260424T153637Z
LAST-MODIFIED:20260424T153730Z
UID:10000296-1797602400-1797609600@bluhawksports.com
SUMMARY:Public Skate
DESCRIPTION:
URL:https://bluhawksports.com/event/public-skate-3/2026-12-18/
LOCATION:Bluhawk Ice Rink
CATEGORIES:Events
END:VEVENT
BEGIN:VEVENT
DTSTART;TZID=America/Chicago:20261219T140000
DTEND;TZID=America/Chicago:20261219T160000
DTSTAMP:20260425T220721
CREATED:20260424T153637Z
LAST-MODIFIED:20260424T153730Z
UID:10000297-1797688800-1797696000@bluhawksports.com
SUMMARY:Public Skate
DESCRIPTION:
URL:https://bluhawksports.com/event/public-skate-3/2026-12-19/
LOCATION:Bluhawk Ice Rink
CATEGORIES:Events
END:VEVENT
BEGIN:VEVENT
DTSTART;TZID=America/Chicago:20261220T140000
DTEND;TZID=America/Chicago:20261220T160000
DTSTAMP:20260425T220721
CREATED:20260424T153637Z
LAST-MODIFIED:20260424T153730Z
UID:10000298-1797775200-1797782400@bluhawksports.com
SUMMARY:Public Skate
DESCRIPTION:
URL:https://bluhawksports.com/event/public-skate-3/2026-12-20/
LOCATION:Bluhawk Ice Rink
CATEGORIES:Events
END:VEVENT
BEGIN:VEVENT
DTSTART;TZID=America/Chicago:20261221T123000
DTEND;TZID=America/Chicago:20261221T140000
DTSTAMP:20260425T220721
CREATED:20260424T155506Z
LAST-MODIFIED:20260424T155542Z
UID:10001113-1797856200-1797861600@bluhawksports.com
SUMMARY:Public Skate
DESCRIPTION:
URL:https://bluhawksports.com/event/public-skate-4/2026-12-21/
LOCATION:Bluhawk Ice Rink
CATEGORIES:Events
END:VEVENT
BEGIN:VEVENT
DTSTART;TZID=America/Chicago:20261222T123000
DTEND;TZID=America/Chicago:20261222T140000
DTSTAMP:20260425T220721
CREATED:20260424T155506Z
LAST-MODIFIED:20260424T155542Z
UID:10001114-1797942600-1797948000@bluhawksports.com
SUMMARY:Public Skate
DESCRIPTION:
URL:https://bluhawksports.com/event/public-skate-4/2026-12-22/
LOCATION:Bluhawk Ice Rink
CATEGORIES:Events
END:VEVENT
BEGIN:VEVENT
DTSTART;TZID=America/Chicago:20261223T123000
DTEND;TZID=America/Chicago:20261223T140000
DTSTAMP:20260425T220721
CREATED:20260424T155506Z
LAST-MODIFIED:20260424T155542Z
UID:10001115-1798029000-1798034400@bluhawksports.com
SUMMARY:Public Skate
DESCRIPTION:
URL:https://bluhawksports.com/event/public-skate-4/2026-12-23/
LOCATION:Bluhawk Ice Rink
CATEGORIES:Events
END:VEVENT
BEGIN:VEVENT
DTSTART;TZID=America/Chicago:20261224T123000
DTEND;TZID=America/Chicago:20261224T140000
DTSTAMP:20260425T220721
CREATED:20260424T155506Z
LAST-MODIFIED:20260424T155542Z
UID:10001116-1798115400-1798120800@bluhawksports.com
SUMMARY:Public Skate
DESCRIPTION:
URL:https://bluhawksports.com/event/public-skate-4/2026-12-24/
LOCATION:Bluhawk Ice Rink
CATEGORIES:Events
END:VEVENT
BEGIN:VEVENT
DTSTART;TZID=America/Chicago:20261225T140000
DTEND;TZID=America/Chicago:20261225T160000
DTSTAMP:20260425T220721
CREATED:20260424T153637Z
LAST-MODIFIED:20260424T153730Z
UID:10000299-1798207200-1798214400@bluhawksports.com
SUMMARY:Public Skate
DESCRIPTION:
URL:https://bluhawksports.com/event/public-skate-3/2026-12-25/
LOCATION:Bluhawk Ice Rink
CATEGORIES:Events
END:VEVENT
BEGIN:VEVENT
DTSTART;TZID=America/Chicago:20261226T140000
DTEND;TZID=America/Chicago:20261226T160000
DTSTAMP:20260425T220721
CREATED:20260424T153637Z
LAST-MODIFIED:20260424T153730Z
UID:10000300-1798293600-1798300800@bluhawksports.com
SUMMARY:Public Skate
DESCRIPTION:
URL:https://bluhawksports.com/event/public-skate-3/2026-12-26/
LOCATION:Bluhawk Ice Rink
CATEGORIES:Events
END:VEVENT
BEGIN:VEVENT
DTSTART;TZID=America/Chicago:20261227T140000
DTEND;TZID=America/Chicago:20261227T160000
DTSTAMP:20260425T220721
CREATED:20260424T153637Z
LAST-MODIFIED:20260424T153730Z
UID:10000301-1798380000-1798387200@bluhawksports.com
SUMMARY:Public Skate
DESCRIPTION:
URL:https://bluhawksports.com/event/public-skate-3/2026-12-27/
LOCATION:Bluhawk Ice Rink
CATEGORIES:Events
END:VEVENT
BEGIN:VEVENT
DTSTART;TZID=America/Chicago:20261228T123000
DTEND;TZID=America/Chicago:20261228T140000
DTSTAMP:20260425T220721
CREATED:20260424T155506Z
LAST-MODIFIED:20260424T155542Z
UID:10001117-1798461000-1798466400@bluhawksports.com
SUMMARY:Public Skate
DESCRIPTION:
URL:https://bluhawksports.com/event/public-skate-4/2026-12-28/
LOCATION:Bluhawk Ice Rink
CATEGORIES:Events
END:VEVENT
BEGIN:VEVENT
DTSTART;TZID=America/Chicago:20261229T123000
DTEND;TZID=America/Chicago:20261229T140000
DTSTAMP:20260425T220721
CREATED:20260424T155506Z
LAST-MODIFIED:20260424T155542Z
UID:10001118-1798547400-1798552800@bluhawksports.com
SUMMARY:Public Skate
DESCRIPTION:
URL:https://bluhawksports.com/event/public-skate-4/2026-12-29/
LOCATION:Bluhawk Ice Rink
CATEGORIES:Events
END:VEVENT
BEGIN:VEVENT
DTSTART;TZID=America/Chicago:20261230T123000
DTEND;TZID=America/Chicago:20261230T140000
DTSTAMP:20260425T220721
CREATED:20260424T155506Z
LAST-MODIFIED:20260424T155542Z
UID:10001119-1798633800-1798639200@bluhawksports.com
SUMMARY:Public Skate
DESCRIPTION:
URL:https://bluhawksports.com/event/public-skate-4/2026-12-30/
LOCATION:Bluhawk Ice Rink
CATEGORIES:Events
END:VEVENT
BEGIN:VEVENT
DTSTART;TZID=America/Chicago:20261231T123000
DTEND;TZID=America/Chicago:20261231T140000
DTSTAMP:20260425T220721
CREATED:20260424T155506Z
LAST-MODIFIED:20260424T155542Z
UID:10001120-1798720200-1798725600@bluhawksports.com
SUMMARY:Public Skate
DESCRIPTION:
URL:https://bluhawksports.com/event/public-skate-4/2026-12-31/
LOCATION:Bluhawk Ice Rink
CATEGORIES:Events
END:VEVENT
BEGIN:VEVENT
DTSTART;TZID=America/Chicago:20270101T140000
DTEND;TZID=America/Chicago:20270101T160000
DTSTAMP:20260425T220721
CREATED:20260424T153637Z
LAST-MODIFIED:20260424T153730Z
UID:10000302-1798812000-1798819200@bluhawksports.com
SUMMARY:Public Skate
DESCRIPTION:
URL:https://bluhawksports.com/event/public-skate-3/2027-01-01/
LOCATION:Bluhawk Ice Rink
CATEGORIES:Events
END:VEVENT
BEGIN:VEVENT
DTSTART;TZID=America/Chicago:20270102T140000
DTEND;TZID=America/Chicago:20270102T160000
DTSTAMP:20260425T220721
CREATED:20260424T153637Z
LAST-MODIFIED:20260424T153730Z
UID:10000303-1798898400-1798905600@bluhawksports.com
SUMMARY:Public Skate
DESCRIPTION:
URL:https://bluhawksports.com/event/public-skate-3/2027-01-02/
LOCATION:Bluhawk Ice Rink
CATEGORIES:Events
END:VEVENT
BEGIN:VEVENT
DTSTART;TZID=America/Chicago:20270103T140000
DTEND;TZID=America/Chicago:20270103T160000
DTSTAMP:20260425T220721
CREATED:20260424T153637Z
LAST-MODIFIED:20260424T153730Z
UID:10000304-1798984800-1798992000@bluhawksports.com
SUMMARY:Public Skate
DESCRIPTION:
URL:https://bluhawksports.com/event/public-skate-3/2027-01-03/
LOCATION:Bluhawk Ice Rink
CATEGORIES:Events
END:VEVENT
BEGIN:VEVENT
DTSTART;TZID=America/Chicago:20270104T123000
DTEND;TZID=America/Chicago:20270104T140000
DTSTAMP:20260425T220721
CREATED:20260424T155506Z
LAST-MODIFIED:20260424T155542Z
UID:10001121-1799065800-1799071200@bluhawksports.com
SUMMARY:Public Skate
DESCRIPTION:
URL:https://bluhawksports.com/event/public-skate-4/2027-01-04/
LOCATION:Bluhawk Ice Rink
CATEGORIES:Events
END:VEVENT
BEGIN:VEVENT
DTSTART;TZID=America/Chicago:20270105T123000
DTEND;TZID=America/Chicago:20270105T140000
DTSTAMP:20260425T220721
CREATED:20260424T155506Z
LAST-MODIFIED:20260424T155542Z
UID:10001122-1799152200-1799157600@bluhawksports.com
SUMMARY:Public Skate
DESCRIPTION:
URL:https://bluhawksports.com/event/public-skate-4/2027-01-05/
LOCATION:Bluhawk Ice Rink
CATEGORIES:Events
END:VEVENT
BEGIN:VEVENT
DTSTART;TZID=America/Chicago:20270106T123000
DTEND;TZID=America/Chicago:20270106T140000
DTSTAMP:20260425T220721
CREATED:20260424T155506Z
LAST-MODIFIED:20260424T155542Z
UID:10001123-1799238600-1799244000@bluhawksports.com
SUMMARY:Public Skate
DESCRIPTION:
URL:https://bluhawksports.com/event/public-skate-4/2027-01-06/
LOCATION:Bluhawk Ice Rink
CATEGORIES:Events
END:VEVENT
BEGIN:VEVENT
DTSTART;TZID=America/Chicago:20270107T123000
DTEND;TZID=America/Chicago:20270107T140000
DTSTAMP:20260425T220721
CREATED:20260424T155506Z
LAST-MODIFIED:20260424T155542Z
UID:10001124-1799325000-1799330400@bluhawksports.com
SUMMARY:Public Skate
DESCRIPTION:
URL:https://bluhawksports.com/event/public-skate-4/2027-01-07/
LOCATION:Bluhawk Ice Rink
CATEGORIES:Events
END:VEVENT
BEGIN:VEVENT
DTSTART;TZID=America/Chicago:20270108T140000
DTEND;TZID=America/Chicago:20270108T160000
DTSTAMP:20260425T220721
CREATED:20260424T153637Z
LAST-MODIFIED:20260424T153730Z
UID:10000305-1799416800-1799424000@bluhawksports.com
SUMMARY:Public Skate
DESCRIPTION:
URL:https://bluhawksports.com/event/public-skate-3/2027-01-08/
LOCATION:Bluhawk Ice Rink
CATEGORIES:Events
END:VEVENT
BEGIN:VEVENT
DTSTART;TZID=America/Chicago:20270109T140000
DTEND;TZID=America/Chicago:20270109T160000
DTSTAMP:20260425T220721
CREATED:20260424T153637Z
LAST-MODIFIED:20260424T153730Z
UID:10000306-1799503200-1799510400@bluhawksports.com
SUMMARY:Public Skate
DESCRIPTION:
URL:https://bluhawksports.com/event/public-skate-3/2027-01-09/
LOCATION:Bluhawk Ice Rink
CATEGORIES:Events
END:VEVENT
END:VCALENDAR