BEGIN:VCALENDAR
VERSION:2.0
PRODID:-//AdventHealth Sports Park at Bluhawk - ECPv6.15.20//NONSGML v1.0//EN
CALSCALE:GREGORIAN
METHOD:PUBLISH
X-WR-CALNAME:AdventHealth Sports Park at Bluhawk
X-ORIGINAL-URL:https://bluhawksports.com
X-WR-CALDESC:Events for AdventHealth Sports Park at Bluhawk
REFRESH-INTERVAL;VALUE=DURATION:PT1H
X-Robots-Tag:noindex
X-PUBLISHED-TTL:PT1H
BEGIN:VTIMEZONE
TZID:America/Chicago
BEGIN:DAYLIGHT
TZOFFSETFROM:-0600
TZOFFSETTO:-0500
TZNAME:CDT
DTSTART:20250309T080000
END:DAYLIGHT
BEGIN:STANDARD
TZOFFSETFROM:-0500
TZOFFSETTO:-0600
TZNAME:CST
DTSTART:20251102T070000
END:STANDARD
BEGIN:DAYLIGHT
TZOFFSETFROM:-0600
TZOFFSETTO:-0500
TZNAME:CDT
DTSTART:20260308T080000
END:DAYLIGHT
BEGIN:STANDARD
TZOFFSETFROM:-0500
TZOFFSETTO:-0600
TZNAME:CST
DTSTART:20261101T070000
END:STANDARD
BEGIN:DAYLIGHT
TZOFFSETFROM:-0600
TZOFFSETTO:-0500
TZNAME:CDT
DTSTART:20270314T080000
END:DAYLIGHT
BEGIN:STANDARD
TZOFFSETFROM:-0500
TZOFFSETTO:-0600
TZNAME:CST
DTSTART:20271107T070000
END:STANDARD
END:VTIMEZONE
BEGIN:VEVENT
DTSTART;TZID=America/Chicago:20261105T123000
DTEND;TZID=America/Chicago:20261105T140000
DTSTAMP:20260425T151536
CREATED:20260424T155506Z
LAST-MODIFIED:20260424T155542Z
UID:10001088-1793881800-1793887200@bluhawksports.com
SUMMARY:Public Skate
DESCRIPTION:
URL:https://bluhawksports.com/event/public-skate-4/2026-11-05/
LOCATION:Bluhawk Ice Rink
CATEGORIES:Events
END:VEVENT
BEGIN:VEVENT
DTSTART;TZID=America/Chicago:20261106T140000
DTEND;TZID=America/Chicago:20261106T160000
DTSTAMP:20260425T151536
CREATED:20260424T153637Z
LAST-MODIFIED:20260424T153730Z
UID:10000278-1793973600-1793980800@bluhawksports.com
SUMMARY:Public Skate
DESCRIPTION:
URL:https://bluhawksports.com/event/public-skate-3/2026-11-06/
LOCATION:Bluhawk Ice Rink
CATEGORIES:Events
END:VEVENT
BEGIN:VEVENT
DTSTART;TZID=America/Chicago:20261107T140000
DTEND;TZID=America/Chicago:20261107T160000
DTSTAMP:20260425T151536
CREATED:20260424T153637Z
LAST-MODIFIED:20260424T153730Z
UID:10000279-1794060000-1794067200@bluhawksports.com
SUMMARY:Public Skate
DESCRIPTION:
URL:https://bluhawksports.com/event/public-skate-3/2026-11-07/
LOCATION:Bluhawk Ice Rink
CATEGORIES:Events
END:VEVENT
BEGIN:VEVENT
DTSTART;TZID=America/Chicago:20261108T140000
DTEND;TZID=America/Chicago:20261108T160000
DTSTAMP:20260425T151536
CREATED:20260424T153637Z
LAST-MODIFIED:20260424T153730Z
UID:10000280-1794146400-1794153600@bluhawksports.com
SUMMARY:Public Skate
DESCRIPTION:
URL:https://bluhawksports.com/event/public-skate-3/2026-11-08/
LOCATION:Bluhawk Ice Rink
CATEGORIES:Events
END:VEVENT
BEGIN:VEVENT
DTSTART;TZID=America/Chicago:20261109T123000
DTEND;TZID=America/Chicago:20261109T140000
DTSTAMP:20260425T151536
CREATED:20260424T155506Z
LAST-MODIFIED:20260424T155542Z
UID:10001089-1794227400-1794232800@bluhawksports.com
SUMMARY:Public Skate
DESCRIPTION:
URL:https://bluhawksports.com/event/public-skate-4/2026-11-09/
LOCATION:Bluhawk Ice Rink
CATEGORIES:Events
END:VEVENT
BEGIN:VEVENT
DTSTART;TZID=America/Chicago:20261110T123000
DTEND;TZID=America/Chicago:20261110T140000
DTSTAMP:20260425T151536
CREATED:20260424T155506Z
LAST-MODIFIED:20260424T155542Z
UID:10001090-1794313800-1794319200@bluhawksports.com
SUMMARY:Public Skate
DESCRIPTION:
URL:https://bluhawksports.com/event/public-skate-4/2026-11-10/
LOCATION:Bluhawk Ice Rink
CATEGORIES:Events
END:VEVENT
BEGIN:VEVENT
DTSTART;TZID=America/Chicago:20261111T123000
DTEND;TZID=America/Chicago:20261111T140000
DTSTAMP:20260425T151536
CREATED:20260424T155506Z
LAST-MODIFIED:20260424T155542Z
UID:10001091-1794400200-1794405600@bluhawksports.com
SUMMARY:Public Skate
DESCRIPTION:
URL:https://bluhawksports.com/event/public-skate-4/2026-11-11/
LOCATION:Bluhawk Ice Rink
CATEGORIES:Events
END:VEVENT
BEGIN:VEVENT
DTSTART;TZID=America/Chicago:20261112T123000
DTEND;TZID=America/Chicago:20261112T140000
DTSTAMP:20260425T151536
CREATED:20260424T155506Z
LAST-MODIFIED:20260424T155542Z
UID:10001092-1794486600-1794492000@bluhawksports.com
SUMMARY:Public Skate
DESCRIPTION:
URL:https://bluhawksports.com/event/public-skate-4/2026-11-12/
LOCATION:Bluhawk Ice Rink
CATEGORIES:Events
END:VEVENT
BEGIN:VEVENT
DTSTART;TZID=America/Chicago:20261113T140000
DTEND;TZID=America/Chicago:20261113T160000
DTSTAMP:20260425T151536
CREATED:20260424T153637Z
LAST-MODIFIED:20260424T153730Z
UID:10000281-1794578400-1794585600@bluhawksports.com
SUMMARY:Public Skate
DESCRIPTION:
URL:https://bluhawksports.com/event/public-skate-3/2026-11-13/
LOCATION:Bluhawk Ice Rink
CATEGORIES:Events
END:VEVENT
BEGIN:VEVENT
DTSTART;TZID=America/Chicago:20261114T140000
DTEND;TZID=America/Chicago:20261114T160000
DTSTAMP:20260425T151536
CREATED:20260424T153637Z
LAST-MODIFIED:20260424T153730Z
UID:10000282-1794664800-1794672000@bluhawksports.com
SUMMARY:Public Skate
DESCRIPTION:
URL:https://bluhawksports.com/event/public-skate-3/2026-11-14/
LOCATION:Bluhawk Ice Rink
CATEGORIES:Events
END:VEVENT
BEGIN:VEVENT
DTSTART;TZID=America/Chicago:20261115T140000
DTEND;TZID=America/Chicago:20261115T160000
DTSTAMP:20260425T151536
CREATED:20260424T153637Z
LAST-MODIFIED:20260424T153730Z
UID:10000283-1794751200-1794758400@bluhawksports.com
SUMMARY:Public Skate
DESCRIPTION:
URL:https://bluhawksports.com/event/public-skate-3/2026-11-15/
LOCATION:Bluhawk Ice Rink
CATEGORIES:Events
END:VEVENT
BEGIN:VEVENT
DTSTART;TZID=America/Chicago:20261116T123000
DTEND;TZID=America/Chicago:20261116T140000
DTSTAMP:20260425T151536
CREATED:20260424T155506Z
LAST-MODIFIED:20260424T155542Z
UID:10001093-1794832200-1794837600@bluhawksports.com
SUMMARY:Public Skate
DESCRIPTION:
URL:https://bluhawksports.com/event/public-skate-4/2026-11-16/
LOCATION:Bluhawk Ice Rink
CATEGORIES:Events
END:VEVENT
BEGIN:VEVENT
DTSTART;TZID=America/Chicago:20261117T123000
DTEND;TZID=America/Chicago:20261117T140000
DTSTAMP:20260425T151536
CREATED:20260424T155506Z
LAST-MODIFIED:20260424T155542Z
UID:10001094-1794918600-1794924000@bluhawksports.com
SUMMARY:Public Skate
DESCRIPTION:
URL:https://bluhawksports.com/event/public-skate-4/2026-11-17/
LOCATION:Bluhawk Ice Rink
CATEGORIES:Events
END:VEVENT
BEGIN:VEVENT
DTSTART;TZID=America/Chicago:20261118T123000
DTEND;TZID=America/Chicago:20261118T140000
DTSTAMP:20260425T151536
CREATED:20260424T155506Z
LAST-MODIFIED:20260424T155542Z
UID:10001095-1795005000-1795010400@bluhawksports.com
SUMMARY:Public Skate
DESCRIPTION:
URL:https://bluhawksports.com/event/public-skate-4/2026-11-18/
LOCATION:Bluhawk Ice Rink
CATEGORIES:Events
END:VEVENT
BEGIN:VEVENT
DTSTART;TZID=America/Chicago:20261119T123000
DTEND;TZID=America/Chicago:20261119T140000
DTSTAMP:20260425T151536
CREATED:20260424T155506Z
LAST-MODIFIED:20260424T155542Z
UID:10001096-1795091400-1795096800@bluhawksports.com
SUMMARY:Public Skate
DESCRIPTION:
URL:https://bluhawksports.com/event/public-skate-4/2026-11-19/
LOCATION:Bluhawk Ice Rink
CATEGORIES:Events
END:VEVENT
BEGIN:VEVENT
DTSTART;TZID=America/Chicago:20261120T140000
DTEND;TZID=America/Chicago:20261120T160000
DTSTAMP:20260425T151536
CREATED:20260424T153637Z
LAST-MODIFIED:20260424T153730Z
UID:10000284-1795183200-1795190400@bluhawksports.com
SUMMARY:Public Skate
DESCRIPTION:
URL:https://bluhawksports.com/event/public-skate-3/2026-11-20/
LOCATION:Bluhawk Ice Rink
CATEGORIES:Events
END:VEVENT
BEGIN:VEVENT
DTSTART;TZID=America/Chicago:20261121T140000
DTEND;TZID=America/Chicago:20261121T160000
DTSTAMP:20260425T151536
CREATED:20260424T153637Z
LAST-MODIFIED:20260424T153730Z
UID:10000285-1795269600-1795276800@bluhawksports.com
SUMMARY:Public Skate
DESCRIPTION:
URL:https://bluhawksports.com/event/public-skate-3/2026-11-21/
LOCATION:Bluhawk Ice Rink
CATEGORIES:Events
END:VEVENT
BEGIN:VEVENT
DTSTART;TZID=America/Chicago:20261122T140000
DTEND;TZID=America/Chicago:20261122T160000
DTSTAMP:20260425T151536
CREATED:20260424T153637Z
LAST-MODIFIED:20260424T153730Z
UID:10000286-1795356000-1795363200@bluhawksports.com
SUMMARY:Public Skate
DESCRIPTION:
URL:https://bluhawksports.com/event/public-skate-3/2026-11-22/
LOCATION:Bluhawk Ice Rink
CATEGORIES:Events
END:VEVENT
BEGIN:VEVENT
DTSTART;TZID=America/Chicago:20261123T123000
DTEND;TZID=America/Chicago:20261123T140000
DTSTAMP:20260425T151536
CREATED:20260424T155506Z
LAST-MODIFIED:20260424T155542Z
UID:10001097-1795437000-1795442400@bluhawksports.com
SUMMARY:Public Skate
DESCRIPTION:
URL:https://bluhawksports.com/event/public-skate-4/2026-11-23/
LOCATION:Bluhawk Ice Rink
CATEGORIES:Events
END:VEVENT
BEGIN:VEVENT
DTSTART;TZID=America/Chicago:20261124T123000
DTEND;TZID=America/Chicago:20261124T140000
DTSTAMP:20260425T151536
CREATED:20260424T155506Z
LAST-MODIFIED:20260424T155542Z
UID:10001098-1795523400-1795528800@bluhawksports.com
SUMMARY:Public Skate
DESCRIPTION:
URL:https://bluhawksports.com/event/public-skate-4/2026-11-24/
LOCATION:Bluhawk Ice Rink
CATEGORIES:Events
END:VEVENT
BEGIN:VEVENT
DTSTART;TZID=America/Chicago:20261125T123000
DTEND;TZID=America/Chicago:20261125T140000
DTSTAMP:20260425T151536
CREATED:20260424T155506Z
LAST-MODIFIED:20260424T155542Z
UID:10001099-1795609800-1795615200@bluhawksports.com
SUMMARY:Public Skate
DESCRIPTION:
URL:https://bluhawksports.com/event/public-skate-4/2026-11-25/
LOCATION:Bluhawk Ice Rink
CATEGORIES:Events
END:VEVENT
BEGIN:VEVENT
DTSTART;TZID=America/Chicago:20261126T123000
DTEND;TZID=America/Chicago:20261126T140000
DTSTAMP:20260425T151536
CREATED:20260424T155506Z
LAST-MODIFIED:20260424T155542Z
UID:10001100-1795696200-1795701600@bluhawksports.com
SUMMARY:Public Skate
DESCRIPTION:
URL:https://bluhawksports.com/event/public-skate-4/2026-11-26/
LOCATION:Bluhawk Ice Rink
CATEGORIES:Events
END:VEVENT
BEGIN:VEVENT
DTSTART;TZID=America/Chicago:20261127T140000
DTEND;TZID=America/Chicago:20261127T160000
DTSTAMP:20260425T151536
CREATED:20260424T153637Z
LAST-MODIFIED:20260424T153730Z
UID:10000287-1795788000-1795795200@bluhawksports.com
SUMMARY:Public Skate
DESCRIPTION:
URL:https://bluhawksports.com/event/public-skate-3/2026-11-27/
LOCATION:Bluhawk Ice Rink
CATEGORIES:Events
END:VEVENT
BEGIN:VEVENT
DTSTART;TZID=America/Chicago:20261128T140000
DTEND;TZID=America/Chicago:20261128T160000
DTSTAMP:20260425T151536
CREATED:20260424T153637Z
LAST-MODIFIED:20260424T153730Z
UID:10000288-1795874400-1795881600@bluhawksports.com
SUMMARY:Public Skate
DESCRIPTION:
URL:https://bluhawksports.com/event/public-skate-3/2026-11-28/
LOCATION:Bluhawk Ice Rink
CATEGORIES:Events
END:VEVENT
BEGIN:VEVENT
DTSTART;TZID=America/Chicago:20261129T140000
DTEND;TZID=America/Chicago:20261129T160000
DTSTAMP:20260425T151536
CREATED:20260424T153637Z
LAST-MODIFIED:20260424T153730Z
UID:10000289-1795960800-1795968000@bluhawksports.com
SUMMARY:Public Skate
DESCRIPTION:
URL:https://bluhawksports.com/event/public-skate-3/2026-11-29/
LOCATION:Bluhawk Ice Rink
CATEGORIES:Events
END:VEVENT
BEGIN:VEVENT
DTSTART;TZID=America/Chicago:20261130T123000
DTEND;TZID=America/Chicago:20261130T140000
DTSTAMP:20260425T151536
CREATED:20260424T155506Z
LAST-MODIFIED:20260424T155542Z
UID:10001101-1796041800-1796047200@bluhawksports.com
SUMMARY:Public Skate
DESCRIPTION:
URL:https://bluhawksports.com/event/public-skate-4/2026-11-30/
LOCATION:Bluhawk Ice Rink
CATEGORIES:Events
END:VEVENT
BEGIN:VEVENT
DTSTART;TZID=America/Chicago:20261201T123000
DTEND;TZID=America/Chicago:20261201T140000
DTSTAMP:20260425T151536
CREATED:20260424T155506Z
LAST-MODIFIED:20260424T155542Z
UID:10001102-1796128200-1796133600@bluhawksports.com
SUMMARY:Public Skate
DESCRIPTION:
URL:https://bluhawksports.com/event/public-skate-4/2026-12-01/
LOCATION:Bluhawk Ice Rink
CATEGORIES:Events
END:VEVENT
BEGIN:VEVENT
DTSTART;TZID=America/Chicago:20261202T123000
DTEND;TZID=America/Chicago:20261202T140000
DTSTAMP:20260425T151536
CREATED:20260424T155506Z
LAST-MODIFIED:20260424T155542Z
UID:10001103-1796214600-1796220000@bluhawksports.com
SUMMARY:Public Skate
DESCRIPTION:
URL:https://bluhawksports.com/event/public-skate-4/2026-12-02/
LOCATION:Bluhawk Ice Rink
CATEGORIES:Events
END:VEVENT
BEGIN:VEVENT
DTSTART;TZID=America/Chicago:20261203T123000
DTEND;TZID=America/Chicago:20261203T140000
DTSTAMP:20260425T151536
CREATED:20260424T155506Z
LAST-MODIFIED:20260424T155542Z
UID:10001104-1796301000-1796306400@bluhawksports.com
SUMMARY:Public Skate
DESCRIPTION:
URL:https://bluhawksports.com/event/public-skate-4/2026-12-03/
LOCATION:Bluhawk Ice Rink
CATEGORIES:Events
END:VEVENT
BEGIN:VEVENT
DTSTART;TZID=America/Chicago:20261204T140000
DTEND;TZID=America/Chicago:20261204T160000
DTSTAMP:20260425T151536
CREATED:20260424T153637Z
LAST-MODIFIED:20260424T153730Z
UID:10000290-1796392800-1796400000@bluhawksports.com
SUMMARY:Public Skate
DESCRIPTION:
URL:https://bluhawksports.com/event/public-skate-3/2026-12-04/
LOCATION:Bluhawk Ice Rink
CATEGORIES:Events
END:VEVENT
END:VCALENDAR