BEGIN:VCALENDAR
VERSION:2.0
PRODID:-//AdventHealth Sports Park at Bluhawk - ECPv6.15.20//NONSGML v1.0//EN
CALSCALE:GREGORIAN
METHOD:PUBLISH
X-WR-CALNAME:AdventHealth Sports Park at Bluhawk
X-ORIGINAL-URL:https://bluhawksports.com
X-WR-CALDESC:Events for AdventHealth Sports Park at Bluhawk
REFRESH-INTERVAL;VALUE=DURATION:PT1H
X-Robots-Tag:noindex
X-PUBLISHED-TTL:PT1H
BEGIN:VTIMEZONE
TZID:America/Chicago
BEGIN:DAYLIGHT
TZOFFSETFROM:-0600
TZOFFSETTO:-0500
TZNAME:CDT
DTSTART:20250309T080000
END:DAYLIGHT
BEGIN:STANDARD
TZOFFSETFROM:-0500
TZOFFSETTO:-0600
TZNAME:CST
DTSTART:20251102T070000
END:STANDARD
BEGIN:DAYLIGHT
TZOFFSETFROM:-0600
TZOFFSETTO:-0500
TZNAME:CDT
DTSTART:20260308T080000
END:DAYLIGHT
BEGIN:STANDARD
TZOFFSETFROM:-0500
TZOFFSETTO:-0600
TZNAME:CST
DTSTART:20261101T070000
END:STANDARD
BEGIN:DAYLIGHT
TZOFFSETFROM:-0600
TZOFFSETTO:-0500
TZNAME:CDT
DTSTART:20270314T080000
END:DAYLIGHT
BEGIN:STANDARD
TZOFFSETFROM:-0500
TZOFFSETTO:-0600
TZNAME:CST
DTSTART:20271107T070000
END:STANDARD
END:VTIMEZONE
BEGIN:VEVENT
DTSTART;TZID=America/Chicago:20260622T123000
DTEND;TZID=America/Chicago:20260622T140000
DTSTAMP:20260425T081017
CREATED:20260424T155506Z
LAST-MODIFIED:20260424T155542Z
UID:10001009-1782131400-1782136800@bluhawksports.com
SUMMARY:Public Skate
DESCRIPTION:
URL:https://bluhawksports.com/event/public-skate-4/2026-06-22/
LOCATION:Bluhawk Ice Rink
CATEGORIES:Events
END:VEVENT
BEGIN:VEVENT
DTSTART;TZID=America/Chicago:20260623T123000
DTEND;TZID=America/Chicago:20260623T140000
DTSTAMP:20260425T081017
CREATED:20260424T155506Z
LAST-MODIFIED:20260424T155542Z
UID:10001010-1782217800-1782223200@bluhawksports.com
SUMMARY:Public Skate
DESCRIPTION:
URL:https://bluhawksports.com/event/public-skate-4/2026-06-23/
LOCATION:Bluhawk Ice Rink
CATEGORIES:Events
END:VEVENT
BEGIN:VEVENT
DTSTART;TZID=America/Chicago:20260624T123000
DTEND;TZID=America/Chicago:20260624T140000
DTSTAMP:20260425T081017
CREATED:20260424T155506Z
LAST-MODIFIED:20260424T155542Z
UID:10001011-1782304200-1782309600@bluhawksports.com
SUMMARY:Public Skate
DESCRIPTION:
URL:https://bluhawksports.com/event/public-skate-4/2026-06-24/
LOCATION:Bluhawk Ice Rink
CATEGORIES:Events
END:VEVENT
BEGIN:VEVENT
DTSTART;TZID=America/Chicago:20260625T123000
DTEND;TZID=America/Chicago:20260625T140000
DTSTAMP:20260425T081017
CREATED:20260424T155506Z
LAST-MODIFIED:20260424T155542Z
UID:10001012-1782390600-1782396000@bluhawksports.com
SUMMARY:Public Skate
DESCRIPTION:
URL:https://bluhawksports.com/event/public-skate-4/2026-06-25/
LOCATION:Bluhawk Ice Rink
CATEGORIES:Events
END:VEVENT
BEGIN:VEVENT
DTSTART;TZID=America/Chicago:20260626T000000
DTEND;TZID=America/Chicago:20260628T235959
DTSTAMP:20260425T081017
CREATED:20251023T150938Z
LAST-MODIFIED:20251023T151209Z
UID:10000156-1782432000-1782691199@bluhawksports.com
SUMMARY:Agape Hoops June Showcase
DESCRIPTION:
URL:https://bluhawksports.com/event/agape-hoops-june-showcase/
CATEGORIES:Events
ATTACH;FMTTYPE=image/png:https://bluhawksports.com/wp-content/uploads/2025/09/2024_AgapeHoops_LogoRebrand_r4-small.png
END:VEVENT
BEGIN:VEVENT
DTSTART;TZID=America/Chicago:20260626T140000
DTEND;TZID=America/Chicago:20260626T160000
DTSTAMP:20260425T081017
CREATED:20260424T153637Z
LAST-MODIFIED:20260424T153730Z
UID:10000221-1782482400-1782489600@bluhawksports.com
SUMMARY:Public Skate
DESCRIPTION:
URL:https://bluhawksports.com/event/public-skate-3/2026-06-26/
LOCATION:Bluhawk Ice Rink
CATEGORIES:Events
END:VEVENT
BEGIN:VEVENT
DTSTART;TZID=America/Chicago:20260627T140000
DTEND;TZID=America/Chicago:20260627T160000
DTSTAMP:20260425T081017
CREATED:20260424T153637Z
LAST-MODIFIED:20260424T153730Z
UID:10000222-1782568800-1782576000@bluhawksports.com
SUMMARY:Public Skate
DESCRIPTION:
URL:https://bluhawksports.com/event/public-skate-3/2026-06-27/
LOCATION:Bluhawk Ice Rink
CATEGORIES:Events
END:VEVENT
BEGIN:VEVENT
DTSTART;TZID=America/Chicago:20260628T140000
DTEND;TZID=America/Chicago:20260628T160000
DTSTAMP:20260425T081017
CREATED:20260424T153637Z
LAST-MODIFIED:20260424T153730Z
UID:10000223-1782655200-1782662400@bluhawksports.com
SUMMARY:Public Skate
DESCRIPTION:
URL:https://bluhawksports.com/event/public-skate-3/2026-06-28/
LOCATION:Bluhawk Ice Rink
CATEGORIES:Events
END:VEVENT
BEGIN:VEVENT
DTSTART;TZID=America/Chicago:20260629T123000
DTEND;TZID=America/Chicago:20260629T140000
DTSTAMP:20260425T081017
CREATED:20260424T155506Z
LAST-MODIFIED:20260424T155542Z
UID:10001013-1782736200-1782741600@bluhawksports.com
SUMMARY:Public Skate
DESCRIPTION:
URL:https://bluhawksports.com/event/public-skate-4/2026-06-29/
LOCATION:Bluhawk Ice Rink
CATEGORIES:Events
END:VEVENT
BEGIN:VEVENT
DTSTART;TZID=America/Chicago:20260630T123000
DTEND;TZID=America/Chicago:20260630T140000
DTSTAMP:20260425T081017
CREATED:20260424T155506Z
LAST-MODIFIED:20260424T155542Z
UID:10001014-1782822600-1782828000@bluhawksports.com
SUMMARY:Public Skate
DESCRIPTION:
URL:https://bluhawksports.com/event/public-skate-4/2026-06-30/
LOCATION:Bluhawk Ice Rink
CATEGORIES:Events
END:VEVENT
BEGIN:VEVENT
DTSTART;TZID=America/Chicago:20260701T123000
DTEND;TZID=America/Chicago:20260701T140000
DTSTAMP:20260425T081017
CREATED:20260424T155506Z
LAST-MODIFIED:20260424T155542Z
UID:10001015-1782909000-1782914400@bluhawksports.com
SUMMARY:Public Skate
DESCRIPTION:
URL:https://bluhawksports.com/event/public-skate-4/2026-07-01/
LOCATION:Bluhawk Ice Rink
CATEGORIES:Events
END:VEVENT
BEGIN:VEVENT
DTSTART;TZID=America/Chicago:20260702T123000
DTEND;TZID=America/Chicago:20260702T140000
DTSTAMP:20260425T081017
CREATED:20260424T155506Z
LAST-MODIFIED:20260424T155542Z
UID:10001016-1782995400-1783000800@bluhawksports.com
SUMMARY:Public Skate
DESCRIPTION:
URL:https://bluhawksports.com/event/public-skate-4/2026-07-02/
LOCATION:Bluhawk Ice Rink
CATEGORIES:Events
END:VEVENT
BEGIN:VEVENT
DTSTART;TZID=America/Chicago:20260703T140000
DTEND;TZID=America/Chicago:20260703T160000
DTSTAMP:20260425T081017
CREATED:20260424T153637Z
LAST-MODIFIED:20260424T153730Z
UID:10000224-1783087200-1783094400@bluhawksports.com
SUMMARY:Public Skate
DESCRIPTION:
URL:https://bluhawksports.com/event/public-skate-3/2026-07-03/
LOCATION:Bluhawk Ice Rink
CATEGORIES:Events
END:VEVENT
BEGIN:VEVENT
DTSTART;TZID=America/Chicago:20260704T140000
DTEND;TZID=America/Chicago:20260704T160000
DTSTAMP:20260425T081017
CREATED:20260424T153637Z
LAST-MODIFIED:20260424T153730Z
UID:10000225-1783173600-1783180800@bluhawksports.com
SUMMARY:Public Skate
DESCRIPTION:
URL:https://bluhawksports.com/event/public-skate-3/2026-07-04/
LOCATION:Bluhawk Ice Rink
CATEGORIES:Events
END:VEVENT
BEGIN:VEVENT
DTSTART;TZID=America/Chicago:20260705T140000
DTEND;TZID=America/Chicago:20260705T160000
DTSTAMP:20260425T081017
CREATED:20260424T153637Z
LAST-MODIFIED:20260424T153730Z
UID:10000226-1783260000-1783267200@bluhawksports.com
SUMMARY:Public Skate
DESCRIPTION:
URL:https://bluhawksports.com/event/public-skate-3/2026-07-05/
LOCATION:Bluhawk Ice Rink
CATEGORIES:Events
END:VEVENT
BEGIN:VEVENT
DTSTART;TZID=America/Chicago:20260706T123000
DTEND;TZID=America/Chicago:20260706T140000
DTSTAMP:20260425T081017
CREATED:20260424T155506Z
LAST-MODIFIED:20260424T155542Z
UID:10001017-1783341000-1783346400@bluhawksports.com
SUMMARY:Public Skate
DESCRIPTION:
URL:https://bluhawksports.com/event/public-skate-4/2026-07-06/
LOCATION:Bluhawk Ice Rink
CATEGORIES:Events
END:VEVENT
BEGIN:VEVENT
DTSTART;TZID=America/Chicago:20260707T123000
DTEND;TZID=America/Chicago:20260707T140000
DTSTAMP:20260425T081017
CREATED:20260424T155506Z
LAST-MODIFIED:20260424T155542Z
UID:10001018-1783427400-1783432800@bluhawksports.com
SUMMARY:Public Skate
DESCRIPTION:
URL:https://bluhawksports.com/event/public-skate-4/2026-07-07/
LOCATION:Bluhawk Ice Rink
CATEGORIES:Events
END:VEVENT
BEGIN:VEVENT
DTSTART;TZID=America/Chicago:20260708T123000
DTEND;TZID=America/Chicago:20260708T140000
DTSTAMP:20260425T081017
CREATED:20260424T155506Z
LAST-MODIFIED:20260424T155542Z
UID:10001019-1783513800-1783519200@bluhawksports.com
SUMMARY:Public Skate
DESCRIPTION:
URL:https://bluhawksports.com/event/public-skate-4/2026-07-08/
LOCATION:Bluhawk Ice Rink
CATEGORIES:Events
END:VEVENT
BEGIN:VEVENT
DTSTART;TZID=America/Chicago:20260709T123000
DTEND;TZID=America/Chicago:20260709T140000
DTSTAMP:20260425T081017
CREATED:20260424T155506Z
LAST-MODIFIED:20260424T155542Z
UID:10001020-1783600200-1783605600@bluhawksports.com
SUMMARY:Public Skate
DESCRIPTION:
URL:https://bluhawksports.com/event/public-skate-4/2026-07-09/
LOCATION:Bluhawk Ice Rink
CATEGORIES:Events
END:VEVENT
BEGIN:VEVENT
DTSTART;TZID=America/Chicago:20260710T000000
DTEND;TZID=America/Chicago:20260712T235959
DTSTAMP:20260425T081017
CREATED:20251007T163625Z
LAST-MODIFIED:20251014T151040Z
UID:10000152-1783641600-1783900799@bluhawksports.com
SUMMARY:Recruit Look Showcase
DESCRIPTION:
URL:https://bluhawksports.com/event/recruit-look-showcase/
CATEGORIES:Events
ATTACH;FMTTYPE=image/jpeg:https://bluhawksports.com/wp-content/uploads/2025/09/bball.jpg
END:VEVENT
BEGIN:VEVENT
DTSTART;TZID=America/Chicago:20260710T140000
DTEND;TZID=America/Chicago:20260710T160000
DTSTAMP:20260425T081017
CREATED:20260424T153637Z
LAST-MODIFIED:20260424T153730Z
UID:10000227-1783692000-1783699200@bluhawksports.com
SUMMARY:Public Skate
DESCRIPTION:
URL:https://bluhawksports.com/event/public-skate-3/2026-07-10/
LOCATION:Bluhawk Ice Rink
CATEGORIES:Events
END:VEVENT
BEGIN:VEVENT
DTSTART;TZID=America/Chicago:20260711T140000
DTEND;TZID=America/Chicago:20260711T160000
DTSTAMP:20260425T081017
CREATED:20260424T153637Z
LAST-MODIFIED:20260424T153730Z
UID:10000228-1783778400-1783785600@bluhawksports.com
SUMMARY:Public Skate
DESCRIPTION:
URL:https://bluhawksports.com/event/public-skate-3/2026-07-11/
LOCATION:Bluhawk Ice Rink
CATEGORIES:Events
END:VEVENT
BEGIN:VEVENT
DTSTART;TZID=America/Chicago:20260712T140000
DTEND;TZID=America/Chicago:20260712T160000
DTSTAMP:20260425T081017
CREATED:20260424T153637Z
LAST-MODIFIED:20260424T153730Z
UID:10000229-1783864800-1783872000@bluhawksports.com
SUMMARY:Public Skate
DESCRIPTION:
URL:https://bluhawksports.com/event/public-skate-3/2026-07-12/
LOCATION:Bluhawk Ice Rink
CATEGORIES:Events
END:VEVENT
BEGIN:VEVENT
DTSTART;TZID=America/Chicago:20260713T123000
DTEND;TZID=America/Chicago:20260713T140000
DTSTAMP:20260425T081017
CREATED:20260424T155506Z
LAST-MODIFIED:20260424T155542Z
UID:10001021-1783945800-1783951200@bluhawksports.com
SUMMARY:Public Skate
DESCRIPTION:
URL:https://bluhawksports.com/event/public-skate-4/2026-07-13/
LOCATION:Bluhawk Ice Rink
CATEGORIES:Events
END:VEVENT
BEGIN:VEVENT
DTSTART;TZID=America/Chicago:20260714T123000
DTEND;TZID=America/Chicago:20260714T140000
DTSTAMP:20260425T081017
CREATED:20260424T155506Z
LAST-MODIFIED:20260424T155542Z
UID:10001022-1784032200-1784037600@bluhawksports.com
SUMMARY:Public Skate
DESCRIPTION:
URL:https://bluhawksports.com/event/public-skate-4/2026-07-14/
LOCATION:Bluhawk Ice Rink
CATEGORIES:Events
END:VEVENT
BEGIN:VEVENT
DTSTART;TZID=America/Chicago:20260715T123000
DTEND;TZID=America/Chicago:20260715T140000
DTSTAMP:20260425T081017
CREATED:20260424T155506Z
LAST-MODIFIED:20260424T155542Z
UID:10001023-1784118600-1784124000@bluhawksports.com
SUMMARY:Public Skate
DESCRIPTION:
URL:https://bluhawksports.com/event/public-skate-4/2026-07-15/
LOCATION:Bluhawk Ice Rink
CATEGORIES:Events
END:VEVENT
BEGIN:VEVENT
DTSTART;TZID=America/Chicago:20260716T123000
DTEND;TZID=America/Chicago:20260716T140000
DTSTAMP:20260425T081017
CREATED:20260424T155506Z
LAST-MODIFIED:20260424T155542Z
UID:10001024-1784205000-1784210400@bluhawksports.com
SUMMARY:Public Skate
DESCRIPTION:
URL:https://bluhawksports.com/event/public-skate-4/2026-07-16/
LOCATION:Bluhawk Ice Rink
CATEGORIES:Events
END:VEVENT
BEGIN:VEVENT
DTSTART;TZID=America/Chicago:20260717T000000
DTEND;TZID=America/Chicago:20260719T235959
DTSTAMP:20260425T081017
CREATED:20251014T150356Z
LAST-MODIFIED:20251014T151034Z
UID:10000153-1784246400-1784505599@bluhawksports.com
SUMMARY:Recruit Look Basketball
DESCRIPTION:
URL:https://bluhawksports.com/event/recruit-look-basketball-2/
CATEGORIES:Events
ATTACH;FMTTYPE=image/png:https://bluhawksports.com/wp-content/uploads/2025/09/download-2.png
END:VEVENT
BEGIN:VEVENT
DTSTART;TZID=America/Chicago:20260717T140000
DTEND;TZID=America/Chicago:20260717T160000
DTSTAMP:20260425T081017
CREATED:20260424T153637Z
LAST-MODIFIED:20260424T153730Z
UID:10000230-1784296800-1784304000@bluhawksports.com
SUMMARY:Public Skate
DESCRIPTION:
URL:https://bluhawksports.com/event/public-skate-3/2026-07-17/
LOCATION:Bluhawk Ice Rink
CATEGORIES:Events
END:VEVENT
BEGIN:VEVENT
DTSTART;TZID=America/Chicago:20260718T140000
DTEND;TZID=America/Chicago:20260718T160000
DTSTAMP:20260425T081017
CREATED:20260424T153637Z
LAST-MODIFIED:20260424T153730Z
UID:10000231-1784383200-1784390400@bluhawksports.com
SUMMARY:Public Skate
DESCRIPTION:
URL:https://bluhawksports.com/event/public-skate-3/2026-07-18/
LOCATION:Bluhawk Ice Rink
CATEGORIES:Events
END:VEVENT
END:VCALENDAR