BEGIN:VCALENDAR
VERSION:2.0
PRODID:-//AdventHealth Sports Park at Bluhawk - ECPv6.15.20//NONSGML v1.0//EN
CALSCALE:GREGORIAN
METHOD:PUBLISH
X-WR-CALNAME:AdventHealth Sports Park at Bluhawk
X-ORIGINAL-URL:https://bluhawksports.com
X-WR-CALDESC:Events for AdventHealth Sports Park at Bluhawk
REFRESH-INTERVAL;VALUE=DURATION:PT1H
X-Robots-Tag:noindex
X-PUBLISHED-TTL:PT1H
BEGIN:VTIMEZONE
TZID:America/Chicago
BEGIN:DAYLIGHT
TZOFFSETFROM:-0600
TZOFFSETTO:-0500
TZNAME:CDT
DTSTART:20250309T080000
END:DAYLIGHT
BEGIN:STANDARD
TZOFFSETFROM:-0500
TZOFFSETTO:-0600
TZNAME:CST
DTSTART:20251102T070000
END:STANDARD
BEGIN:DAYLIGHT
TZOFFSETFROM:-0600
TZOFFSETTO:-0500
TZNAME:CDT
DTSTART:20260308T080000
END:DAYLIGHT
BEGIN:STANDARD
TZOFFSETFROM:-0500
TZOFFSETTO:-0600
TZNAME:CST
DTSTART:20261101T070000
END:STANDARD
BEGIN:DAYLIGHT
TZOFFSETFROM:-0600
TZOFFSETTO:-0500
TZNAME:CDT
DTSTART:20270314T080000
END:DAYLIGHT
BEGIN:STANDARD
TZOFFSETFROM:-0500
TZOFFSETTO:-0600
TZNAME:CST
DTSTART:20271107T070000
END:STANDARD
END:VTIMEZONE
BEGIN:VEVENT
DTSTART;TZID=America/Chicago:20260930T150000
DTEND;TZID=America/Chicago:20260930T190000
DTSTAMP:20260425T095302
CREATED:20260113T160501Z
LAST-MODIFIED:20260113T160503Z
UID:10000185-1790780400-1790794800@bluhawksports.com
SUMMARY:8th Grade Volleyball Tournament
DESCRIPTION:USD 229 – Blue Valley
URL:https://bluhawksports.com/event/8th-grade-volleyball-tournament/
CATEGORIES:Events
ATTACH;FMTTYPE=image/jpeg:https://bluhawksports.com/wp-content/uploads/2025/09/download-2-e1768320290494.jpg
END:VEVENT
BEGIN:VEVENT
DTSTART;TZID=America/Chicago:20261001T123000
DTEND;TZID=America/Chicago:20261001T140000
DTSTAMP:20260425T095302
CREATED:20260424T155506Z
LAST-MODIFIED:20260424T155542Z
UID:10001068-1790857800-1790863200@bluhawksports.com
SUMMARY:Public Skate
DESCRIPTION:
URL:https://bluhawksports.com/event/public-skate-4/2026-10-01/
LOCATION:Bluhawk Ice Rink
CATEGORIES:Events
END:VEVENT
BEGIN:VEVENT
DTSTART;TZID=America/Chicago:20261002T140000
DTEND;TZID=America/Chicago:20261002T160000
DTSTAMP:20260425T095302
CREATED:20260424T153637Z
LAST-MODIFIED:20260424T153730Z
UID:10000263-1790949600-1790956800@bluhawksports.com
SUMMARY:Public Skate
DESCRIPTION:
URL:https://bluhawksports.com/event/public-skate-3/2026-10-02/
LOCATION:Bluhawk Ice Rink
CATEGORIES:Events
END:VEVENT
BEGIN:VEVENT
DTSTART;TZID=America/Chicago:20261003T140000
DTEND;TZID=America/Chicago:20261003T160000
DTSTAMP:20260425T095302
CREATED:20260424T153637Z
LAST-MODIFIED:20260424T153730Z
UID:10000264-1791036000-1791043200@bluhawksports.com
SUMMARY:Public Skate
DESCRIPTION:
URL:https://bluhawksports.com/event/public-skate-3/2026-10-03/
LOCATION:Bluhawk Ice Rink
CATEGORIES:Events
END:VEVENT
BEGIN:VEVENT
DTSTART;TZID=America/Chicago:20261004T140000
DTEND;TZID=America/Chicago:20261004T160000
DTSTAMP:20260425T095302
CREATED:20260424T153637Z
LAST-MODIFIED:20260424T153730Z
UID:10000265-1791122400-1791129600@bluhawksports.com
SUMMARY:Public Skate
DESCRIPTION:
URL:https://bluhawksports.com/event/public-skate-3/2026-10-04/
LOCATION:Bluhawk Ice Rink
CATEGORIES:Events
END:VEVENT
BEGIN:VEVENT
DTSTART;TZID=America/Chicago:20261005T123000
DTEND;TZID=America/Chicago:20261005T140000
DTSTAMP:20260425T095302
CREATED:20260424T155506Z
LAST-MODIFIED:20260424T155542Z
UID:10001069-1791203400-1791208800@bluhawksports.com
SUMMARY:Public Skate
DESCRIPTION:
URL:https://bluhawksports.com/event/public-skate-4/2026-10-05/
LOCATION:Bluhawk Ice Rink
CATEGORIES:Events
END:VEVENT
BEGIN:VEVENT
DTSTART;TZID=America/Chicago:20261006T123000
DTEND;TZID=America/Chicago:20261006T140000
DTSTAMP:20260425T095302
CREATED:20260424T155506Z
LAST-MODIFIED:20260424T155542Z
UID:10001070-1791289800-1791295200@bluhawksports.com
SUMMARY:Public Skate
DESCRIPTION:
URL:https://bluhawksports.com/event/public-skate-4/2026-10-06/
LOCATION:Bluhawk Ice Rink
CATEGORIES:Events
END:VEVENT
BEGIN:VEVENT
DTSTART;TZID=America/Chicago:20261007T123000
DTEND;TZID=America/Chicago:20261007T140000
DTSTAMP:20260425T095302
CREATED:20260424T155506Z
LAST-MODIFIED:20260424T155542Z
UID:10001071-1791376200-1791381600@bluhawksports.com
SUMMARY:Public Skate
DESCRIPTION:
URL:https://bluhawksports.com/event/public-skate-4/2026-10-07/
LOCATION:Bluhawk Ice Rink
CATEGORIES:Events
END:VEVENT
BEGIN:VEVENT
DTSTART;TZID=America/Chicago:20261008T123000
DTEND;TZID=America/Chicago:20261008T140000
DTSTAMP:20260425T095302
CREATED:20260424T155506Z
LAST-MODIFIED:20260424T155542Z
UID:10001072-1791462600-1791468000@bluhawksports.com
SUMMARY:Public Skate
DESCRIPTION:
URL:https://bluhawksports.com/event/public-skate-4/2026-10-08/
LOCATION:Bluhawk Ice Rink
CATEGORIES:Events
END:VEVENT
BEGIN:VEVENT
DTSTART;TZID=America/Chicago:20261009T140000
DTEND;TZID=America/Chicago:20261009T160000
DTSTAMP:20260425T095302
CREATED:20260424T153637Z
LAST-MODIFIED:20260424T153730Z
UID:10000266-1791554400-1791561600@bluhawksports.com
SUMMARY:Public Skate
DESCRIPTION:
URL:https://bluhawksports.com/event/public-skate-3/2026-10-09/
LOCATION:Bluhawk Ice Rink
CATEGORIES:Events
END:VEVENT
BEGIN:VEVENT
DTSTART;TZID=America/Chicago:20261010T140000
DTEND;TZID=America/Chicago:20261010T160000
DTSTAMP:20260425T095302
CREATED:20260424T153637Z
LAST-MODIFIED:20260424T153730Z
UID:10000267-1791640800-1791648000@bluhawksports.com
SUMMARY:Public Skate
DESCRIPTION:
URL:https://bluhawksports.com/event/public-skate-3/2026-10-10/
LOCATION:Bluhawk Ice Rink
CATEGORIES:Events
END:VEVENT
BEGIN:VEVENT
DTSTART;TZID=America/Chicago:20261011T140000
DTEND;TZID=America/Chicago:20261011T160000
DTSTAMP:20260425T095302
CREATED:20260424T153637Z
LAST-MODIFIED:20260424T153730Z
UID:10000268-1791727200-1791734400@bluhawksports.com
SUMMARY:Public Skate
DESCRIPTION:
URL:https://bluhawksports.com/event/public-skate-3/2026-10-11/
LOCATION:Bluhawk Ice Rink
CATEGORIES:Events
END:VEVENT
BEGIN:VEVENT
DTSTART;TZID=America/Chicago:20261012T123000
DTEND;TZID=America/Chicago:20261012T140000
DTSTAMP:20260425T095302
CREATED:20260424T155506Z
LAST-MODIFIED:20260424T155542Z
UID:10001073-1791808200-1791813600@bluhawksports.com
SUMMARY:Public Skate
DESCRIPTION:
URL:https://bluhawksports.com/event/public-skate-4/2026-10-12/
LOCATION:Bluhawk Ice Rink
CATEGORIES:Events
END:VEVENT
BEGIN:VEVENT
DTSTART;TZID=America/Chicago:20261013T123000
DTEND;TZID=America/Chicago:20261013T140000
DTSTAMP:20260425T095302
CREATED:20260424T155506Z
LAST-MODIFIED:20260424T155542Z
UID:10001074-1791894600-1791900000@bluhawksports.com
SUMMARY:Public Skate
DESCRIPTION:
URL:https://bluhawksports.com/event/public-skate-4/2026-10-13/
LOCATION:Bluhawk Ice Rink
CATEGORIES:Events
END:VEVENT
BEGIN:VEVENT
DTSTART;TZID=America/Chicago:20261014T123000
DTEND;TZID=America/Chicago:20261014T140000
DTSTAMP:20260425T095302
CREATED:20260424T155506Z
LAST-MODIFIED:20260424T155542Z
UID:10001075-1791981000-1791986400@bluhawksports.com
SUMMARY:Public Skate
DESCRIPTION:
URL:https://bluhawksports.com/event/public-skate-4/2026-10-14/
LOCATION:Bluhawk Ice Rink
CATEGORIES:Events
END:VEVENT
BEGIN:VEVENT
DTSTART;TZID=America/Chicago:20261015T000000
DTEND;TZID=America/Chicago:20261017T235959
DTSTAMP:20260425T095302
CREATED:20251014T150905Z
LAST-MODIFIED:20251014T151028Z
UID:10000155-1792022400-1792281599@bluhawksports.com
SUMMARY:National Christian Homeschool Volleyball Championships
DESCRIPTION:
URL:https://bluhawksports.com/event/national-christian-homeschool-volleyball-championships/
CATEGORIES:Events
ATTACH;FMTTYPE=image/avif:https://bluhawksports.com/wp-content/uploads/2025/08/159A8963-Enhanced-NR-scaled-6.avif
END:VEVENT
BEGIN:VEVENT
DTSTART;TZID=America/Chicago:20261015T123000
DTEND;TZID=America/Chicago:20261015T140000
DTSTAMP:20260425T095302
CREATED:20260424T155506Z
LAST-MODIFIED:20260424T155542Z
UID:10001076-1792067400-1792072800@bluhawksports.com
SUMMARY:Public Skate
DESCRIPTION:
URL:https://bluhawksports.com/event/public-skate-4/2026-10-15/
LOCATION:Bluhawk Ice Rink
CATEGORIES:Events
END:VEVENT
BEGIN:VEVENT
DTSTART;TZID=America/Chicago:20261016T140000
DTEND;TZID=America/Chicago:20261016T160000
DTSTAMP:20260425T095302
CREATED:20260424T153637Z
LAST-MODIFIED:20260424T153730Z
UID:10000269-1792159200-1792166400@bluhawksports.com
SUMMARY:Public Skate
DESCRIPTION:
URL:https://bluhawksports.com/event/public-skate-3/2026-10-16/
LOCATION:Bluhawk Ice Rink
CATEGORIES:Events
END:VEVENT
BEGIN:VEVENT
DTSTART;TZID=America/Chicago:20261017T140000
DTEND;TZID=America/Chicago:20261017T160000
DTSTAMP:20260425T095302
CREATED:20260424T153637Z
LAST-MODIFIED:20260424T153730Z
UID:10000270-1792245600-1792252800@bluhawksports.com
SUMMARY:Public Skate
DESCRIPTION:
URL:https://bluhawksports.com/event/public-skate-3/2026-10-17/
LOCATION:Bluhawk Ice Rink
CATEGORIES:Events
END:VEVENT
BEGIN:VEVENT
DTSTART;TZID=America/Chicago:20261018T140000
DTEND;TZID=America/Chicago:20261018T160000
DTSTAMP:20260425T095302
CREATED:20260424T153637Z
LAST-MODIFIED:20260424T153730Z
UID:10000271-1792332000-1792339200@bluhawksports.com
SUMMARY:Public Skate
DESCRIPTION:
URL:https://bluhawksports.com/event/public-skate-3/2026-10-18/
LOCATION:Bluhawk Ice Rink
CATEGORIES:Events
END:VEVENT
BEGIN:VEVENT
DTSTART;TZID=America/Chicago:20261019T123000
DTEND;TZID=America/Chicago:20261019T140000
DTSTAMP:20260425T095302
CREATED:20260424T155506Z
LAST-MODIFIED:20260424T155542Z
UID:10001077-1792413000-1792418400@bluhawksports.com
SUMMARY:Public Skate
DESCRIPTION:
URL:https://bluhawksports.com/event/public-skate-4/2026-10-19/
LOCATION:Bluhawk Ice Rink
CATEGORIES:Events
END:VEVENT
BEGIN:VEVENT
DTSTART;TZID=America/Chicago:20261020T123000
DTEND;TZID=America/Chicago:20261020T140000
DTSTAMP:20260425T095302
CREATED:20260424T155506Z
LAST-MODIFIED:20260424T155542Z
UID:10001078-1792499400-1792504800@bluhawksports.com
SUMMARY:Public Skate
DESCRIPTION:
URL:https://bluhawksports.com/event/public-skate-4/2026-10-20/
LOCATION:Bluhawk Ice Rink
CATEGORIES:Events
END:VEVENT
BEGIN:VEVENT
DTSTART;TZID=America/Chicago:20261021T123000
DTEND;TZID=America/Chicago:20261021T140000
DTSTAMP:20260425T095302
CREATED:20260424T155506Z
LAST-MODIFIED:20260424T155542Z
UID:10001079-1792585800-1792591200@bluhawksports.com
SUMMARY:Public Skate
DESCRIPTION:
URL:https://bluhawksports.com/event/public-skate-4/2026-10-21/
LOCATION:Bluhawk Ice Rink
CATEGORIES:Events
END:VEVENT
BEGIN:VEVENT
DTSTART;TZID=America/Chicago:20261022T123000
DTEND;TZID=America/Chicago:20261022T140000
DTSTAMP:20260425T095302
CREATED:20260424T155506Z
LAST-MODIFIED:20260424T155542Z
UID:10001080-1792672200-1792677600@bluhawksports.com
SUMMARY:Public Skate
DESCRIPTION:
URL:https://bluhawksports.com/event/public-skate-4/2026-10-22/
LOCATION:Bluhawk Ice Rink
CATEGORIES:Events
END:VEVENT
BEGIN:VEVENT
DTSTART;TZID=America/Chicago:20261023T140000
DTEND;TZID=America/Chicago:20261023T160000
DTSTAMP:20260425T095302
CREATED:20260424T153637Z
LAST-MODIFIED:20260424T153730Z
UID:10000272-1792764000-1792771200@bluhawksports.com
SUMMARY:Public Skate
DESCRIPTION:
URL:https://bluhawksports.com/event/public-skate-3/2026-10-23/
LOCATION:Bluhawk Ice Rink
CATEGORIES:Events
END:VEVENT
BEGIN:VEVENT
DTSTART;TZID=America/Chicago:20261024T140000
DTEND;TZID=America/Chicago:20261024T160000
DTSTAMP:20260425T095302
CREATED:20260424T153637Z
LAST-MODIFIED:20260424T153730Z
UID:10000273-1792850400-1792857600@bluhawksports.com
SUMMARY:Public Skate
DESCRIPTION:
URL:https://bluhawksports.com/event/public-skate-3/2026-10-24/
LOCATION:Bluhawk Ice Rink
CATEGORIES:Events
END:VEVENT
BEGIN:VEVENT
DTSTART;TZID=America/Chicago:20261024T150000
DTEND;TZID=America/Chicago:20261024T200000
DTSTAMP:20260425T095302
CREATED:20251204T185919Z
LAST-MODIFIED:20251204T185920Z
UID:10000181-1792854000-1792872000@bluhawksports.com
SUMMARY:Overland Park HYROX
DESCRIPTION:Hosted by C26 Hub
URL:https://bluhawksports.com/event/overland-park-hyrox/
END:VEVENT
BEGIN:VEVENT
DTSTART;TZID=America/Chicago:20261025T090000
DTEND;TZID=America/Chicago:20261025T150000
DTSTAMP:20260425T095302
CREATED:20251204T190201Z
LAST-MODIFIED:20251204T190202Z
UID:10000182-1792918800-1792940400@bluhawksports.com
SUMMARY:Overland Park HYROX
DESCRIPTION:Hosted by C26 Hub
URL:https://bluhawksports.com/event/overland-park-hyrox-2/
END:VEVENT
BEGIN:VEVENT
DTSTART;TZID=America/Chicago:20261025T140000
DTEND;TZID=America/Chicago:20261025T160000
DTSTAMP:20260425T095302
CREATED:20260424T153637Z
LAST-MODIFIED:20260424T153730Z
UID:10000274-1792936800-1792944000@bluhawksports.com
SUMMARY:Public Skate
DESCRIPTION:
URL:https://bluhawksports.com/event/public-skate-3/2026-10-25/
LOCATION:Bluhawk Ice Rink
CATEGORIES:Events
END:VEVENT
BEGIN:VEVENT
DTSTART;TZID=America/Chicago:20261026T123000
DTEND;TZID=America/Chicago:20261026T140000
DTSTAMP:20260425T095302
CREATED:20260424T155506Z
LAST-MODIFIED:20260424T155542Z
UID:10001081-1793017800-1793023200@bluhawksports.com
SUMMARY:Public Skate
DESCRIPTION:
URL:https://bluhawksports.com/event/public-skate-4/2026-10-26/
LOCATION:Bluhawk Ice Rink
CATEGORIES:Events
END:VEVENT
END:VCALENDAR