BEGIN:VCALENDAR
VERSION:2.0
PRODID:-//AdventHealth Sports Park at Bluhawk - ECPv6.15.20//NONSGML v1.0//EN
CALSCALE:GREGORIAN
METHOD:PUBLISH
X-ORIGINAL-URL:https://bluhawksports.com
X-WR-CALDESC:Events for AdventHealth Sports Park at Bluhawk
REFRESH-INTERVAL;VALUE=DURATION:PT1H
X-Robots-Tag:noindex
X-PUBLISHED-TTL:PT1H
BEGIN:VTIMEZONE
TZID:America/Chicago
BEGIN:DAYLIGHT
TZOFFSETFROM:-0600
TZOFFSETTO:-0500
TZNAME:CDT
DTSTART:20250309T080000
END:DAYLIGHT
BEGIN:STANDARD
TZOFFSETFROM:-0500
TZOFFSETTO:-0600
TZNAME:CST
DTSTART:20251102T070000
END:STANDARD
BEGIN:DAYLIGHT
TZOFFSETFROM:-0600
TZOFFSETTO:-0500
TZNAME:CDT
DTSTART:20260308T080000
END:DAYLIGHT
BEGIN:STANDARD
TZOFFSETFROM:-0500
TZOFFSETTO:-0600
TZNAME:CST
DTSTART:20261101T070000
END:STANDARD
BEGIN:DAYLIGHT
TZOFFSETFROM:-0600
TZOFFSETTO:-0500
TZNAME:CDT
DTSTART:20270314T080000
END:DAYLIGHT
BEGIN:STANDARD
TZOFFSETFROM:-0500
TZOFFSETTO:-0600
TZNAME:CST
DTSTART:20271107T070000
END:STANDARD
END:VTIMEZONE
BEGIN:VEVENT
DTSTART;TZID=America/Chicago:20260320T080000
DTEND;TZID=America/Chicago:20260322T170000
DTSTAMP:20260421T170755
CREATED:20260306T202244Z
LAST-MODIFIED:20260306T205856Z
UID:10000191-1773993600-1774198800@bluhawksports.com
SUMMARY:2026 KANSAS CITY SIGNATURE OPEN
DESCRIPTION:OVER $150\,000 GUARANTEED IN PRIZES AND CASH PAYOUTS! \n\n\n\nCome out to Overland Park\, KS\, and join in on competitions for amateurs and Pros!  \n\n\n\nThroughout the weekend\, Open events for amateurs run all three days\, giving players of all skill levels the chance to compete and be part of the action.  \n\n\n\nThen\, the spotlight shifts to the pros as the second ACL Pro event of the season takes center stage.  \n\n\n\nBut the highlight of the Pro side will be Week 1 of ACL Pro Teams competition!
URL:https://bluhawksports.com/event/2026-kansas-city-signature-open/
ATTACH;FMTTYPE=image/jpeg:https://bluhawksports.com/wp-content/uploads/2026/03/cornhole-pic-for-bluhawk.jpg
END:VEVENT
END:VCALENDAR